Workbook

Sheet General Instructions
B1: Budget Development Worksheet, 2020-2021 (FY21) Budget Worksheet for an Organization (Department/Program)
B3: Before doing anythng else, use SAVE AS to save a copy of this workbook file, updating the file name to replace ORG with your deparment or program's Organization Number. The saved file should resemble 123456.FY21Budget_Planning,Org.xlsx
B5: This workbook has three tabs: General Instructions (This page); Budget 2020-2021; and BudgetNotes. Please read the following general instructions to help prepare your budget proposal.
B7: The Budget2020-2021 tab is the worksheet in which you will update or enter your proposed budget. To begin your Budget Development Worksheet, please first enter the Organization number in the Yellow box at the top of Column C on the worksheet. You may look up an Organization code on the fourth tab of this workbook, "Organiization". | C7: FOAP
B9: Your organization's name will appear. You will also see additional data completed on the worksheet. It is important that you enter this value as it keys the worksheet to retreive other data and is used when all budgets are consolidated.
B11: The worksheet shows any expenditures for this organization for the current year-to-date as well as annual expenditures for the past four fiscal years. Please review these expenditures as a guide for planning FY21. A "FY21 Proposed" column is shown with FY20 (the current year) working budget amount filled in.
B13: This budget proposal addresses only "discretionary operating expenses"; permanent faculty and staff positions and associate faculty are not budgeted on this worksheet. Hourly ("NOE"), overtime, stipends, and similar expenditures are to be budgeted on this worksheet. Related payroll charges are automatically calculated, based upon the amount budgeted.
B15: To prepare your budget proposal, you may accept the FY21Proposed amount or enter an alternative value. The most frequently used account codes are displayed in the worksheet. Should you require a budget account for a code not shown, enter that code within the Account column starting on Row 38, where it is indicated to <<<Enter Account Code Not Shown Above. Entering the Account Code will display the Description for the Account. Enter the proposed budget amount in Column F. | C15: FOAP
B17: Please Note: You will only be able to select specific cells on the worksheet: Generally the cells in Column F and the Account cells from row 38-47.
B19: In Column M, Explanation, please enter any brief comments to provide an understanding of the proposed budget. Please also use the tab, BudgetNotes, to enter more detailed explanations to help the Office of Administrative Servces to understand the budget request.
B21: Remember to Save a copy of the Budget Development Worksheet and forward a copy of the worksheet to your dean or budget administrator for review. Once reviewed, please forward the approved copy of the worksheet to pat.fenton@westvalley.edu.

Sheet BUDGET2020-2021
A1: Budget Development Worksheet, FY2020-2021 (FY21) | F1: Enter or Update Proposed Budget Below | M1: In the Explanation column below, please provide detail to explain the expenditure. Use formulas, list items, provide rationale. | N1: Please use the BudgetNotes tab (see bottom of worksheet) to add any notes to explain budget items. Using this tab rather than a separate page helps keep budget information together in one document. Thank you.
A2: Organization: | D2: =VLOOKUP(C2,Organization!$A$2:'Organization'!$B$153,2) -> <<Enter Cost Center Number
B3: 43752 | D3: =VLOOKUP(TRUNC(C2/1000,0),Responsibility!A2:B27,2) -> -----
A4: Fund | B4: Organization | C4: Account | D4: Program | E4: Description | F4: =PriorYR!$F$1 -> FY21Proposed | G4: =PriorYR!$G$1 -> FY20Budget | H4: =PriorYR!$H$1 -> FY20 YTD | I4: =PriorYR!$K$1 -> FY19Actual | J4: =PriorYR!$L$1 -> FY18Actual | K4: =PriorYR!$M$1 -> FY17Actual | L4: =PriorYR!$N$1 -> FY16Actual | M4: Explanation
A5: =IF(A$3="","",$A$3) | B5: =$C$2 -> 0 | C5: 140015 | D5: =VLOOKUP($C$2,Organization!$A$2:'Organization'!$D$153,4) -> 0 | E5: =IF(C5="","",VLOOKUP(C5,Account!$A$2:$B$141,2)) -> PT Stipends Noninstruction | F5: =IF(ISNA(VLOOKUP(CONCATENATE($B5,$C5),PriorYR!$E$2:$N$1273,2,FALSE))=TRUE,0,VLOOKUP(CONCATENATE($B5,$C5),PriorYR!$E$2:$N$1273,2,FALSE)) -> 0 | G5: =IF(ISNA(VLOOKUP(CONCATENATE($B5,$C5),PriorYR!$E$2:$N$1273,3,FALSE))=TRUE,0,VLOOKUP(CONCATENATE($B5,$C5),PriorYR!$E$2:$N$1273,3,FALSE)) -> 0 | H5: =IF(ISNA(VLOOKUP(CONCATENATE($B5,$C5),PriorYR!$E$2:$N$1273,4,FALSE))=TRUE,0,VLOOKUP(CONCATENATE($B5,$C5),PriorYR!$E$2:$N$1273,4,FALSE)) -> 0 | I5: =IF(ISNA(VLOOKUP(CONCATENATE($B5,$C5),PriorYR!$E$2:$N$1273,7,FALSE))=TRUE,0,VLOOKUP(CONCATENATE($B5,$C5),PriorYR!$E$2:$N$1273,7,FALSE)) -> 0 | J5: =IF(ISNA(VLOOKUP(CONCATENATE($B5,$C5),PriorYR!$E$2:$N$1273,8,FALSE))=TRUE,0,VLOOKUP(CONCATENATE($B5,$C5),PriorYR!$E$2:$N$1273,8,FALSE)) -> 0 | K5: =IF(ISNA(VLOOKUP(CONCATENATE($B5,$C5),PriorYR!$E$2:$N$1273,9,FALSE))=TRUE,0,VLOOKUP(CONCATENATE($B5,$C5),PriorYR!$E$2:$N$1273,9,FALSE)) -> 0 | L5: =IF(ISNA(VLOOKUP(CONCATENATE($B5,$C5),PriorYR!$E$2:$N$1273,10,FALSE))=TRUE,0,VLOOKUP(CONCATENATE($B5,$C5),PriorYR!$E$2:$N$1273,10,FALSE)) -> 0 | N5: Faculty stipends per stipend agreement
A6: =IF(A$3="","",$A$3) | B6: =$C$2 -> 0 | C6: 230010 | D6: =VLOOKUP($C$2,Organization!$A$2:'Organization'!$D$153,4) -> 0 | E6: =IF(C6="","",VLOOKUP(C6,Account!$A$2:$B$141,2)) -> PT Hourly Classified | F6: =IF(ISNA(VLOOKUP(CONCATENATE($B6,$C6),PriorYR!$E$2:$N$1273,2,FALSE))=TRUE,0,VLOOKUP(CONCATENATE($B6,$C6),PriorYR!$E$2:$N$1273,2,FALSE)) -> 0 | G6: =IF(ISNA(VLOOKUP(CONCATENATE($B6,$C6),PriorYR!$E$2:$N$1273,3,FALSE))=TRUE,0,VLOOKUP(CONCATENATE($B6,$C6),PriorYR!$E$2:$N$1273,3,FALSE)) -> 0 | H6: =IF(ISNA(VLOOKUP(CONCATENATE($B6,$C6),PriorYR!$E$2:$N$1273,4,FALSE))=TRUE,0,VLOOKUP(CONCATENATE($B6,$C6),PriorYR!$E$2:$N$1273,4,FALSE)) -> 0 | I6: =IF(ISNA(VLOOKUP(CONCATENATE($B6,$C6),PriorYR!$E$2:$N$1273,7,FALSE))=TRUE,0,VLOOKUP(CONCATENATE($B6,$C6),PriorYR!$E$2:$N$1273,7,FALSE)) -> 0 | J6: =IF(ISNA(VLOOKUP(CONCATENATE($B6,$C6),PriorYR!$E$2:$N$1273,8,FALSE))=TRUE,0,VLOOKUP(CONCATENATE($B6,$C6),PriorYR!$E$2:$N$1273,8,FALSE)) -> 0 | K6: =IF(ISNA(VLOOKUP(CONCATENATE($B6,$C6),PriorYR!$E$2:$N$1273,9,FALSE))=TRUE,0,VLOOKUP(CONCATENATE($B6,$C6),PriorYR!$E$2:$N$1273,9,FALSE)) -> 0 | L6: =IF(ISNA(VLOOKUP(CONCATENATE($B6,$C6),PriorYR!$E$2:$N$1273,10,FALSE))=TRUE,0,VLOOKUP(CONCATENATE($B6,$C6),PriorYR!$E$2:$N$1273,10,FALSE)) -> 0 | N6: Hourly classified; requires approved NOE (Notice of Employment)
A7: =IF(A$3="","",$A$3) | B7: =$C$2 -> 0 | C7: 230020 | D7: =VLOOKUP($C$2,Organization!$A$2:'Organization'!$D$153,4) -> 0 | E7: =IF(C7="","",VLOOKUP(C7,Account!$A$2:$B$141,2)) -> Classified Overtime | F7: =IF(ISNA(VLOOKUP(CONCATENATE($B7,$C7),PriorYR!$E$2:$N$1273,2,FALSE))=TRUE,0,VLOOKUP(CONCATENATE($B7,$C7),PriorYR!$E$2:$N$1273,2,FALSE)) -> 0 | G7: =IF(ISNA(VLOOKUP(CONCATENATE($B7,$C7),PriorYR!$E$2:$N$1273,3,FALSE))=TRUE,0,VLOOKUP(CONCATENATE($B7,$C7),PriorYR!$E$2:$N$1273,3,FALSE)) -> 0 | H7: =IF(ISNA(VLOOKUP(CONCATENATE($B7,$C7),PriorYR!$E$2:$N$1273,4,FALSE))=TRUE,0,VLOOKUP(CONCATENATE($B7,$C7),PriorYR!$E$2:$N$1273,4,FALSE)) -> 0 | I7: =IF(ISNA(VLOOKUP(CONCATENATE($B7,$C7),PriorYR!$E$2:$N$1273,7,FALSE))=TRUE,0,VLOOKUP(CONCATENATE($B7,$C7),PriorYR!$E$2:$N$1273,7,FALSE)) -> 0 | J7: =IF(ISNA(VLOOKUP(CONCATENATE($B7,$C7),PriorYR!$E$2:$N$1273,8,FALSE))=TRUE,0,VLOOKUP(CONCATENATE($B7,$C7),PriorYR!$E$2:$N$1273,8,FALSE)) -> 0 | K7: =IF(ISNA(VLOOKUP(CONCATENATE($B7,$C7),PriorYR!$E$2:$N$1273,9,FALSE))=TRUE,0,VLOOKUP(CONCATENATE($B7,$C7),PriorYR!$E$2:$N$1273,9,FALSE)) -> 0 | L7: =IF(ISNA(VLOOKUP(CONCATENATE($B7,$C7),PriorYR!$E$2:$N$1273,10,FALSE))=TRUE,0,VLOOKUP(CONCATENATE($B7,$C7),PriorYR!$E$2:$N$1273,10,FALSE)) -> 0 | N7: Classified overtime pay; requires authorization
A8: =IF(A$3="","",$A$3) | B8: =$C$2 -> 0 | C8: 230025 | D8: =VLOOKUP($C$2,Organization!$A$2:'Organization'!$D$153,4) -> 0 | E8: =IF(C8="","",VLOOKUP(C8,Account!$A$2:$B$141,2)) -> PT Classified Replacements | F8: =IF(ISNA(VLOOKUP(CONCATENATE($B8,$C8),PriorYR!$E$2:$N$1273,2,FALSE))=TRUE,0,VLOOKUP(CONCATENATE($B8,$C8),PriorYR!$E$2:$N$1273,2,FALSE)) -> 0 | G8: =IF(ISNA(VLOOKUP(CONCATENATE($B8,$C8),PriorYR!$E$2:$N$1273,3,FALSE))=TRUE,0,VLOOKUP(CONCATENATE($B8,$C8),PriorYR!$E$2:$N$1273,3,FALSE)) -> 0 | H8: =IF(ISNA(VLOOKUP(CONCATENATE($B8,$C8),PriorYR!$E$2:$N$1273,4,FALSE))=TRUE,0,VLOOKUP(CONCATENATE($B8,$C8),PriorYR!$E$2:$N$1273,4,FALSE)) -> 0 | I8: =IF(ISNA(VLOOKUP(CONCATENATE($B8,$C8),PriorYR!$E$2:$N$1273,7,FALSE))=TRUE,0,VLOOKUP(CONCATENATE($B8,$C8),PriorYR!$E$2:$N$1273,7,FALSE)) -> 0 | J8: =IF(ISNA(VLOOKUP(CONCATENATE($B8,$C8),PriorYR!$E$2:$N$1273,8,FALSE))=TRUE,0,VLOOKUP(CONCATENATE($B8,$C8),PriorYR!$E$2:$N$1273,8,FALSE)) -> 0 | K8: =IF(ISNA(VLOOKUP(CONCATENATE($B8,$C8),PriorYR!$E$2:$N$1273,9,FALSE))=TRUE,0,VLOOKUP(CONCATENATE($B8,$C8),PriorYR!$E$2:$N$1273,9,FALSE)) -> 0 | L8: =IF(ISNA(VLOOKUP(CONCATENATE($B8,$C8),PriorYR!$E$2:$N$1273,10,FALSE))=TRUE,0,VLOOKUP(CONCATENATE($B8,$C8),PriorYR!$E$2:$N$1273,10,FALSE)) -> 0 | N8: Part-time, hourly classified
A9: =IF(A$3="","",$A$3) | B9: =$C$2 -> 0 | C9: 230050 | D9: =VLOOKUP($C$2,Organization!$A$2:'Organization'!$D$153,4) -> 0 | E9: =IF(C9="","",VLOOKUP(C9,Account!$A$2:$B$141,2)) -> PT Classified Special Services | F9: =IF(ISNA(VLOOKUP(CONCATENATE($B9,$C9),PriorYR!$E$2:$N$1273,2,FALSE))=TRUE,0,VLOOKUP(CONCATENATE($B9,$C9),PriorYR!$E$2:$N$1273,2,FALSE)) -> 0 | G9: =IF(ISNA(VLOOKUP(CONCATENATE($B9,$C9),PriorYR!$E$2:$N$1273,3,FALSE))=TRUE,0,VLOOKUP(CONCATENATE($B9,$C9),PriorYR!$E$2:$N$1273,3,FALSE)) -> 0 | H9: =IF(ISNA(VLOOKUP(CONCATENATE($B9,$C9),PriorYR!$E$2:$N$1273,4,FALSE))=TRUE,0,VLOOKUP(CONCATENATE($B9,$C9),PriorYR!$E$2:$N$1273,4,FALSE)) -> 0 | I9: =IF(ISNA(VLOOKUP(CONCATENATE($B9,$C9),PriorYR!$E$2:$N$1273,7,FALSE))=TRUE,0,VLOOKUP(CONCATENATE($B9,$C9),PriorYR!$E$2:$N$1273,7,FALSE)) -> 0 | J9: =IF(ISNA(VLOOKUP(CONCATENATE($B9,$C9),PriorYR!$E$2:$N$1273,8,FALSE))=TRUE,0,VLOOKUP(CONCATENATE($B9,$C9),PriorYR!$E$2:$N$1273,8,FALSE)) -> 0 | K9: =IF(ISNA(VLOOKUP(CONCATENATE($B9,$C9),PriorYR!$E$2:$N$1273,9,FALSE))=TRUE,0,VLOOKUP(CONCATENATE($B9,$C9),PriorYR!$E$2:$N$1273,9,FALSE)) -> 0 | L9: =IF(ISNA(VLOOKUP(CONCATENATE($B9,$C9),PriorYR!$E$2:$N$1273,10,FALSE))=TRUE,0,VLOOKUP(CONCATENATE($B9,$C9),PriorYR!$E$2:$N$1273,10,FALSE)) -> 0 | N9: Part-time, hourly classified
A10: =IF(A$3="","",$A$3) | B10: =$C$2 -> 0 | C10: 240010 | D10: =VLOOKUP($C$2,Organization!$A$2:'Organization'!$D$153,4) -> 0 | E10: =IF(C10="","",VLOOKUP(C10,Account!$A$2:$B$141,2)) -> PT Instructional Aides | F10: =IF(ISNA(VLOOKUP(CONCATENATE($B10,$C10),PriorYR!$E$2:$N$1273,2,FALSE))=TRUE,0,VLOOKUP(CONCATENATE($B10,$C10),PriorYR!$E$2:$N$1273,2,FALSE)) -> 0 | G10: =IF(ISNA(VLOOKUP(CONCATENATE($B10,$C10),PriorYR!$E$2:$N$1273,3,FALSE))=TRUE,0,VLOOKUP(CONCATENATE($B10,$C10),PriorYR!$E$2:$N$1273,3,FALSE)) -> 0 | H10: =IF(ISNA(VLOOKUP(CONCATENATE($B10,$C10),PriorYR!$E$2:$N$1273,4,FALSE))=TRUE,0,VLOOKUP(CONCATENATE($B10,$C10),PriorYR!$E$2:$N$1273,4,FALSE)) -> 0 | I10: =IF(ISNA(VLOOKUP(CONCATENATE($B10,$C10),PriorYR!$E$2:$N$1273,7,FALSE))=TRUE,0,VLOOKUP(CONCATENATE($B10,$C10),PriorYR!$E$2:$N$1273,7,FALSE)) -> 0 | J10: =IF(ISNA(VLOOKUP(CONCATENATE($B10,$C10),PriorYR!$E$2:$N$1273,8,FALSE))=TRUE,0,VLOOKUP(CONCATENATE($B10,$C10),PriorYR!$E$2:$N$1273,8,FALSE)) -> 0 | K10: =IF(ISNA(VLOOKUP(CONCATENATE($B10,$C10),PriorYR!$E$2:$N$1273,9,FALSE))=TRUE,0,VLOOKUP(CONCATENATE($B10,$C10),PriorYR!$E$2:$N$1273,9,FALSE)) -> 0 | L10: =IF(ISNA(VLOOKUP(CONCATENATE($B10,$C10),PriorYR!$E$2:$N$1273,10,FALSE))=TRUE,0,VLOOKUP(CONCATENATE($B10,$C10),PriorYR!$E$2:$N$1273,10,FALSE)) -> 0 | N10: Instructional Aid paid hourly; requires approved NOE (Notice of Employment)
A11: =IF(A$3="","",$A$3) | B11: =$C$2 -> 0 | C11: 240050 | D11: =VLOOKUP($C$2,Organization!$A$2:'Organization'!$D$153,4) -> 0 | E11: =IF(C11="","",VLOOKUP(C11,Account!$A$2:$B$141,2)) -> PT Instructional Aides Special | F11: =IF(ISNA(VLOOKUP(CONCATENATE($B11,$C11),PriorYR!$E$2:$N$1273,2,FALSE))=TRUE,0,VLOOKUP(CONCATENATE($B11,$C11),PriorYR!$E$2:$N$1273,2,FALSE)) -> 0 | G11: =IF(ISNA(VLOOKUP(CONCATENATE($B11,$C11),PriorYR!$E$2:$N$1273,3,FALSE))=TRUE,0,VLOOKUP(CONCATENATE($B11,$C11),PriorYR!$E$2:$N$1273,3,FALSE)) -> 0 | H11: =IF(ISNA(VLOOKUP(CONCATENATE($B11,$C11),PriorYR!$E$2:$N$1273,4,FALSE))=TRUE,0,VLOOKUP(CONCATENATE($B11,$C11),PriorYR!$E$2:$N$1273,4,FALSE)) -> 0 | I11: =IF(ISNA(VLOOKUP(CONCATENATE($B11,$C11),PriorYR!$E$2:$N$1273,7,FALSE))=TRUE,0,VLOOKUP(CONCATENATE($B11,$C11),PriorYR!$E$2:$N$1273,7,FALSE)) -> 0 | J11: =IF(ISNA(VLOOKUP(CONCATENATE($B11,$C11),PriorYR!$E$2:$N$1273,8,FALSE))=TRUE,0,VLOOKUP(CONCATENATE($B11,$C11),PriorYR!$E$2:$N$1273,8,FALSE)) -> 0 | K11: =IF(ISNA(VLOOKUP(CONCATENATE($B11,$C11),PriorYR!$E$2:$N$1273,9,FALSE))=TRUE,0,VLOOKUP(CONCATENATE($B11,$C11),PriorYR!$E$2:$N$1273,9,FALSE)) -> 0 | L11: =IF(ISNA(VLOOKUP(CONCATENATE($B11,$C11),PriorYR!$E$2:$N$1273,10,FALSE))=TRUE,0,VLOOKUP(CONCATENATE($B11,$C11),PriorYR!$E$2:$N$1273,10,FALSE)) -> 0 | N11: Instructional Aid paid hourly; requires approved NOE (Notice of Employment)
A12: =IF(A$3="","",$A$3) | B12: =$C$2 -> 0 | C12: 310020 | D12: =VLOOKUP($C$2,Organization!$A$2:'Organization'!$D$153,4) -> 0 | E12: =IF(C12="","",VLOOKUP(C12,Account!$A$2:$B$141,2)) -> STRS Noninstruction | F12: =M5*O12 -> 0 | G12: DO NOT ENTER -STRS Calculated Mandatory Payroll-Related | M12: 0.171 | N12: Payroll-related charges automatically calculated per accounts above
A13: =IF(A$3="","",$A$3) | B13: =$C$2 -> 0 | C13: 311020 | D13: =VLOOKUP($C$2,Organization!$A$2:'Organization'!$D$153,4) -> 0 | E13: =IF(C13="","",VLOOKUP(C13,Account!$A$2:$B$141,2)) -> PERS Noninstruction | F13: =M7*O13 -> 0 | G13: DO NOT ENTER -PERS Calculated Mandatory Payroll-Related | M13: 0.19721 | N13: Payroll-related charges automatically calculated per accounts above
A14: =IF(A$3="","",$A$3) | B14: =$C$2 -> 0 | C14: 312020 | D14: =VLOOKUP($C$2,Organization!$A$2:'Organization'!$D$153,4) -> 0 | E14: =IF(C14="","",VLOOKUP(C14,Account!$A$2:$B$141,2)) -> Apple Plan Noninstruction | F14: =SUM(F5:F11)*M14 -> 0 | G14: DO NOT ENTER -APPLE Calculated Mandatory Payroll-Related | M14: 0.04 | N14: Payroll-related charges automatically calculated per accounts above
A15: =IF(A$3="","",$A$3) | B15: =$C$2 -> 0 | C15: 320020 | D15: =VLOOKUP($C$2,Organization!$A$2:'Organization'!$D$153,4) -> 0 | E15: =IF(C15="","",VLOOKUP(C15,Account!$A$2:$B$141,2)) -> OASDI Noninstruction | F15: =M7*O15 -> 0 | G15: DO NOT ENTER -OASDI Calculated Mandatory Payroll-Related | M15: 0.062 | N15: Payroll-related charges automatically calculated per accounts above
A16: =IF(A$3="","",$A$3) | B16: =$C$2 -> 0 | C16: 321020 | D16: =VLOOKUP($C$2,Organization!$A$2:'Organization'!$D$153,4) -> 0 | E16: =IF(C16="","",VLOOKUP(C16,Account!$A$2:$B$141,2)) -> Medicare Noninstruction | F16: =SUM(F5:F11)*M16 -> 0 | G16: DO NOT ENTER -Medicare Calculated Mandatory Payroll-Related | M16: 0.0145 | N16: Payroll-related charges automatically calculated per accounts above
A17: =IF(A$3="","",$A$3) | B17: =$C$2 -> 0 | C17: 322020 | D17: =VLOOKUP($C$2,Organization!$A$2:'Organization'!$D$153,4) -> 0 | E17: =IF(C17="","",VLOOKUP(C17,Account!$A$2:$B$141,2)) -> UI Noninstruction | F17: =SUM(F5:F11)*M17 -> 0 | G17: DO NOT ENTER -UI Calculated Mandatory Payroll-Related | M17: 0.0005 | N17: Payroll-related charges automatically calculated per accounts above
A18: =IF(A$3="","",$A$3) | B18: =$C$2 -> 0 | C18: 323020 | D18: =VLOOKUP($C$2,Organization!$A$2:'Organization'!$D$153,4) -> 0 | E18: =IF(C18="","",VLOOKUP(C18,Account!$A$2:$B$141,2)) -> Workers Comp Noninstr | F18: =SUM(F5:F11)*M18 -> 0 | G18: DO NOT ENTER -Workers Comp Calculated Mandatory Payroll-Related | M18: 0.01192 | N18: Payroll-related charges automatically calculated per accounts above
A19: =IF(A$3="","",$A$3) | B19: =$C$2 -> 0 | C19: 410001 | D19: =VLOOKUP($C$2,Organization!$A$2:'Organization'!$D$153,3) | E19: =IF(C19="","",VLOOKUP(C19,Account!$A$2:$B$141,2)) -> Books and Magazines | F19: =IF(ISNA(VLOOKUP(CONCATENATE($B19,$C19),PriorYR!$E$2:$N$1273,2,FALSE))=TRUE,0,VLOOKUP(CONCATENATE($B19,$C19),PriorYR!$E$2:$N$1273,2,FALSE)) -> 0 | G19: =IF(ISNA(VLOOKUP(CONCATENATE($B19,$C19),PriorYR!$E$2:$N$1273,3,FALSE))=TRUE,0,VLOOKUP(CONCATENATE($B19,$C19),PriorYR!$E$2:$N$1273,3,FALSE)) -> 0 | H19: =IF(ISNA(VLOOKUP(CONCATENATE($B19,$C19),PriorYR!$E$2:$N$1273,4,FALSE))=TRUE,0,VLOOKUP(CONCATENATE($B19,$C19),PriorYR!$E$2:$N$1273,4,FALSE)) -> 0 | I19: =IF(ISNA(VLOOKUP(CONCATENATE($B19,$C19),PriorYR!$E$2:$N$1273,7,FALSE))=TRUE,0,VLOOKUP(CONCATENATE($B19,$C19),PriorYR!$E$2:$N$1273,7,FALSE)) -> 0 | J19: =IF(ISNA(VLOOKUP(CONCATENATE($B19,$C19),PriorYR!$E$2:$N$1273,8,FALSE))=TRUE,0,VLOOKUP(CONCATENATE($B19,$C19),PriorYR!$E$2:$N$1273,8,FALSE)) -> 0 | K19: =IF(ISNA(VLOOKUP(CONCATENATE($B19,$C19),PriorYR!$E$2:$N$1273,9,FALSE))=TRUE,0,VLOOKUP(CONCATENATE($B19,$C19),PriorYR!$E$2:$N$1273,9,FALSE)) -> 0 | L19: =IF(ISNA(VLOOKUP(CONCATENATE($B19,$C19),PriorYR!$E$2:$N$1273,10,FALSE))=TRUE,0,VLOOKUP(CONCATENATE($B19,$C19),PriorYR!$E$2:$N$1273,10,FALSE)) -> 0
A20: =IF(A$3="","",$A$3) | B20: =$C$2 -> 0 | C20: 410003 | D20: =VLOOKUP($C$2,Organization!$A$2:'Organization'!$D$153,3) | E20: =IF(C20="","",VLOOKUP(C20,Account!$A$2:$B$141,2)) -> Duplicating | F20: =IF(ISNA(VLOOKUP(CONCATENATE($B20,$C20),PriorYR!$E$2:$N$1273,2,FALSE))=TRUE,0,VLOOKUP(CONCATENATE($B20,$C20),PriorYR!$E$2:$N$1273,2,FALSE)) -> 0 | G20: =IF(ISNA(VLOOKUP(CONCATENATE($B20,$C20),PriorYR!$E$2:$N$1273,3,FALSE))=TRUE,0,VLOOKUP(CONCATENATE($B20,$C20),PriorYR!$E$2:$N$1273,3,FALSE)) -> 0 | H20: =IF(ISNA(VLOOKUP(CONCATENATE($B20,$C20),PriorYR!$E$2:$N$1273,4,FALSE))=TRUE,0,VLOOKUP(CONCATENATE($B20,$C20),PriorYR!$E$2:$N$1273,4,FALSE)) -> 0 | I20: =IF(ISNA(VLOOKUP(CONCATENATE($B20,$C20),PriorYR!$E$2:$N$1273,7,FALSE))=TRUE,0,VLOOKUP(CONCATENATE($B20,$C20),PriorYR!$E$2:$N$1273,7,FALSE)) -> 0 | J20: =IF(ISNA(VLOOKUP(CONCATENATE($B20,$C20),PriorYR!$E$2:$N$1273,8,FALSE))=TRUE,0,VLOOKUP(CONCATENATE($B20,$C20),PriorYR!$E$2:$N$1273,8,FALSE)) -> 0 | K20: =IF(ISNA(VLOOKUP(CONCATENATE($B20,$C20),PriorYR!$E$2:$N$1273,9,FALSE))=TRUE,0,VLOOKUP(CONCATENATE($B20,$C20),PriorYR!$E$2:$N$1273,9,FALSE)) -> 0 | L20: =IF(ISNA(VLOOKUP(CONCATENATE($B20,$C20),PriorYR!$E$2:$N$1273,10,FALSE))=TRUE,0,VLOOKUP(CONCATENATE($B20,$C20),PriorYR!$E$2:$N$1273,10,FALSE)) -> 0 | N20: Items produced in WVC Printing facility
A21: =IF(A$3="","",$A$3) | B21: =$C$2 -> 0 | C21: 410004 | D21: =VLOOKUP($C$2,Organization!$A$2:'Organization'!$D$153,3) | E21: =IF(C21="","",VLOOKUP(C21,Account!$A$2:$B$141,2)) -> Supplies and Materials | F21: =IF(ISNA(VLOOKUP(CONCATENATE($B21,$C21),PriorYR!$E$2:$N$1273,2,FALSE))=TRUE,0,VLOOKUP(CONCATENATE($B21,$C21),PriorYR!$E$2:$N$1273,2,FALSE)) -> 0 | G21: =IF(ISNA(VLOOKUP(CONCATENATE($B21,$C21),PriorYR!$E$2:$N$1273,3,FALSE))=TRUE,0,VLOOKUP(CONCATENATE($B21,$C21),PriorYR!$E$2:$N$1273,3,FALSE)) -> 0 | H21: =IF(ISNA(VLOOKUP(CONCATENATE($B21,$C21),PriorYR!$E$2:$N$1273,4,FALSE))=TRUE,0,VLOOKUP(CONCATENATE($B21,$C21),PriorYR!$E$2:$N$1273,4,FALSE)) -> 0 | I21: =IF(ISNA(VLOOKUP(CONCATENATE($B21,$C21),PriorYR!$E$2:$N$1273,7,FALSE))=TRUE,0,VLOOKUP(CONCATENATE($B21,$C21),PriorYR!$E$2:$N$1273,7,FALSE)) -> 0 | J21: =IF(ISNA(VLOOKUP(CONCATENATE($B21,$C21),PriorYR!$E$2:$N$1273,8,FALSE))=TRUE,0,VLOOKUP(CONCATENATE($B21,$C21),PriorYR!$E$2:$N$1273,8,FALSE)) -> 0 | K21: =IF(ISNA(VLOOKUP(CONCATENATE($B21,$C21),PriorYR!$E$2:$N$1273,9,FALSE))=TRUE,0,VLOOKUP(CONCATENATE($B21,$C21),PriorYR!$E$2:$N$1273,9,FALSE)) -> 0 | L21: =IF(ISNA(VLOOKUP(CONCATENATE($B21,$C21),PriorYR!$E$2:$N$1273,10,FALSE))=TRUE,0,VLOOKUP(CONCATENATE($B21,$C21),PriorYR!$E$2:$N$1273,10,FALSE)) -> 0 | N21: Supplies & Materials only, not equipment, software, or items for which other expense classifications exist
A22: =IF(A$3="","",$A$3) | B22: =$C$2 -> 0 | C22: 410005 | D22: =VLOOKUP($C$2,Organization!$A$2:'Organization'!$D$153,4) -> 0 | E22: =IF(C22="","",VLOOKUP(C22,Account!$A$2:$B$141,2)) -> Food | F22: =IF(ISNA(VLOOKUP(CONCATENATE($B22,$C22),PriorYR!$E$2:$N$1273,2,FALSE))=TRUE,0,VLOOKUP(CONCATENATE($B22,$C22),PriorYR!$E$2:$N$1273,2,FALSE)) -> 0 | G22: =IF(ISNA(VLOOKUP(CONCATENATE($B22,$C22),PriorYR!$E$2:$N$1273,3,FALSE))=TRUE,0,VLOOKUP(CONCATENATE($B22,$C22),PriorYR!$E$2:$N$1273,3,FALSE)) -> 0 | H22: =IF(ISNA(VLOOKUP(CONCATENATE($B22,$C22),PriorYR!$E$2:$N$1273,4,FALSE))=TRUE,0,VLOOKUP(CONCATENATE($B22,$C22),PriorYR!$E$2:$N$1273,4,FALSE)) -> 0 | I22: =IF(ISNA(VLOOKUP(CONCATENATE($B22,$C22),PriorYR!$E$2:$N$1273,7,FALSE))=TRUE,0,VLOOKUP(CONCATENATE($B22,$C22),PriorYR!$E$2:$N$1273,7,FALSE)) -> 0 | J22: =IF(ISNA(VLOOKUP(CONCATENATE($B22,$C22),PriorYR!$E$2:$N$1273,8,FALSE))=TRUE,0,VLOOKUP(CONCATENATE($B22,$C22),PriorYR!$E$2:$N$1273,8,FALSE)) -> 0 | K22: =IF(ISNA(VLOOKUP(CONCATENATE($B22,$C22),PriorYR!$E$2:$N$1273,9,FALSE))=TRUE,0,VLOOKUP(CONCATENATE($B22,$C22),PriorYR!$E$2:$N$1273,9,FALSE)) -> 0 | L22: =IF(ISNA(VLOOKUP(CONCATENATE($B22,$C22),PriorYR!$E$2:$N$1273,10,FALSE))=TRUE,0,VLOOKUP(CONCATENATE($B22,$C22),PriorYR!$E$2:$N$1273,10,FALSE)) -> 0 | N22: Not General Fund:Food items for meetings or events, not for travel & conference
A23: =IF(A$3="","",$A$3) | B23: =$C$2 -> 0 | C23: 500104 | D23: =VLOOKUP($C$2,Organization!$A$2:'Organization'!$D$153,3) | E23: =IF(C23="","",VLOOKUP(C23,Account!$A$2:$B$141,2)) -> Contract Services | F23: =IF(ISNA(VLOOKUP(CONCATENATE($B23,$C23),PriorYR!$E$2:$N$1273,2,FALSE))=TRUE,0,VLOOKUP(CONCATENATE($B23,$C23),PriorYR!$E$2:$N$1273,2,FALSE)) -> 0 | G23: =IF(ISNA(VLOOKUP(CONCATENATE($B23,$C23),PriorYR!$E$2:$N$1273,3,FALSE))=TRUE,0,VLOOKUP(CONCATENATE($B23,$C23),PriorYR!$E$2:$N$1273,3,FALSE)) -> 0 | H23: =IF(ISNA(VLOOKUP(CONCATENATE($B23,$C23),PriorYR!$E$2:$N$1273,4,FALSE))=TRUE,0,VLOOKUP(CONCATENATE($B23,$C23),PriorYR!$E$2:$N$1273,4,FALSE)) -> 0 | I23: =IF(ISNA(VLOOKUP(CONCATENATE($B23,$C23),PriorYR!$E$2:$N$1273,7,FALSE))=TRUE,0,VLOOKUP(CONCATENATE($B23,$C23),PriorYR!$E$2:$N$1273,7,FALSE)) -> 0 | J23: =IF(ISNA(VLOOKUP(CONCATENATE($B23,$C23),PriorYR!$E$2:$N$1273,8,FALSE))=TRUE,0,VLOOKUP(CONCATENATE($B23,$C23),PriorYR!$E$2:$N$1273,8,FALSE)) -> 0 | K23: =IF(ISNA(VLOOKUP(CONCATENATE($B23,$C23),PriorYR!$E$2:$N$1273,9,FALSE))=TRUE,0,VLOOKUP(CONCATENATE($B23,$C23),PriorYR!$E$2:$N$1273,9,FALSE)) -> 0 | L23: =IF(ISNA(VLOOKUP(CONCATENATE($B23,$C23),PriorYR!$E$2:$N$1273,10,FALSE))=TRUE,0,VLOOKUP(CONCATENATE($B23,$C23),PriorYR!$E$2:$N$1273,10,FALSE)) -> 0 | N23: Special duties or services performed by external firm. Requires pre-suthorizaton via a purchase order
A24: =IF(A$3="","",$A$3) | B24: =$C$2 -> 0 | C24: 500105 | D24: =VLOOKUP($C$2,Organization!$A$2:'Organization'!$D$153,3) | E24: =IF(C24="","",VLOOKUP(C24,Account!$A$2:$B$141,2)) -> Consultant Services | F24: =IF(ISNA(VLOOKUP(CONCATENATE($B24,$C24),PriorYR!$E$2:$N$1273,2,FALSE))=TRUE,0,VLOOKUP(CONCATENATE($B24,$C24),PriorYR!$E$2:$N$1273,2,FALSE)) -> 0 | G24: =IF(ISNA(VLOOKUP(CONCATENATE($B24,$C24),PriorYR!$E$2:$N$1273,3,FALSE))=TRUE,0,VLOOKUP(CONCATENATE($B24,$C24),PriorYR!$E$2:$N$1273,3,FALSE)) -> 0 | H24: =IF(ISNA(VLOOKUP(CONCATENATE($B24,$C24),PriorYR!$E$2:$N$1273,4,FALSE))=TRUE,0,VLOOKUP(CONCATENATE($B24,$C24),PriorYR!$E$2:$N$1273,4,FALSE)) -> 0 | I24: =IF(ISNA(VLOOKUP(CONCATENATE($B24,$C24),PriorYR!$E$2:$N$1273,7,FALSE))=TRUE,0,VLOOKUP(CONCATENATE($B24,$C24),PriorYR!$E$2:$N$1273,7,FALSE)) -> 0 | J24: =IF(ISNA(VLOOKUP(CONCATENATE($B24,$C24),PriorYR!$E$2:$N$1273,8,FALSE))=TRUE,0,VLOOKUP(CONCATENATE($B24,$C24),PriorYR!$E$2:$N$1273,8,FALSE)) -> 0 | K24: =IF(ISNA(VLOOKUP(CONCATENATE($B24,$C24),PriorYR!$E$2:$N$1273,9,FALSE))=TRUE,0,VLOOKUP(CONCATENATE($B24,$C24),PriorYR!$E$2:$N$1273,9,FALSE)) -> 0 | L24: =IF(ISNA(VLOOKUP(CONCATENATE($B24,$C24),PriorYR!$E$2:$N$1273,10,FALSE))=TRUE,0,VLOOKUP(CONCATENATE($B24,$C24),PriorYR!$E$2:$N$1273,10,FALSE)) -> 0 | N24: Special duties or services performed by external firm. Requires pre-suthorizaton via a purchase order
A25: =IF(A$3="","",$A$3) | B25: =$C$2 -> 0 | C25: 500107 | D25: =VLOOKUP($C$2,Organization!$A$2:'Organization'!$D$153,4) -> 0 | E25: =IF(C25="","",VLOOKUP(C25,Account!$A$2:$B$141,2)) -> Dues and Membership | F25: =IF(ISNA(VLOOKUP(CONCATENATE($B25,$C25),PriorYR!$E$2:$N$1273,2,FALSE))=TRUE,0,VLOOKUP(CONCATENATE($B25,$C25),PriorYR!$E$2:$N$1273,2,FALSE)) -> 0 | G25: =IF(ISNA(VLOOKUP(CONCATENATE($B25,$C25),PriorYR!$E$2:$N$1273,3,FALSE))=TRUE,0,VLOOKUP(CONCATENATE($B25,$C25),PriorYR!$E$2:$N$1273,3,FALSE)) -> 0 | H25: =IF(ISNA(VLOOKUP(CONCATENATE($B25,$C25),PriorYR!$E$2:$N$1273,4,FALSE))=TRUE,0,VLOOKUP(CONCATENATE($B25,$C25),PriorYR!$E$2:$N$1273,4,FALSE)) -> 0 | I25: =IF(ISNA(VLOOKUP(CONCATENATE($B25,$C25),PriorYR!$E$2:$N$1273,7,FALSE))=TRUE,0,VLOOKUP(CONCATENATE($B25,$C25),PriorYR!$E$2:$N$1273,7,FALSE)) -> 0 | J25: =IF(ISNA(VLOOKUP(CONCATENATE($B25,$C25),PriorYR!$E$2:$N$1273,8,FALSE))=TRUE,0,VLOOKUP(CONCATENATE($B25,$C25),PriorYR!$E$2:$N$1273,8,FALSE)) -> 0 | K25: =IF(ISNA(VLOOKUP(CONCATENATE($B25,$C25),PriorYR!$E$2:$N$1273,9,FALSE))=TRUE,0,VLOOKUP(CONCATENATE($B25,$C25),PriorYR!$E$2:$N$1273,9,FALSE)) -> 0 | L25: =IF(ISNA(VLOOKUP(CONCATENATE($B25,$C25),PriorYR!$E$2:$N$1273,10,FALSE))=TRUE,0,VLOOKUP(CONCATENATE($B25,$C25),PriorYR!$E$2:$N$1273,10,FALSE)) -> 0 | N25: Dues, Membership, and similar fees for professional organizations and other organized groups
A26: =IF(A$3="","",$A$3) | B26: =$C$2 -> 0 | C26: 500115 | D26: =VLOOKUP($C$2,Organization!$A$2:'Organization'!$D$153,4) -> 0 | E26: =IF(C26="","",VLOOKUP(C26,Account!$A$2:$B$141,2)) -> Repairs and Maint to Equipt | F26: =IF(ISNA(VLOOKUP(CONCATENATE($B26,$C26),PriorYR!$E$2:$N$1273,2,FALSE))=TRUE,0,VLOOKUP(CONCATENATE($B26,$C26),PriorYR!$E$2:$N$1273,2,FALSE)) -> 0 | G26: =IF(ISNA(VLOOKUP(CONCATENATE($B26,$C26),PriorYR!$E$2:$N$1273,3,FALSE))=TRUE,0,VLOOKUP(CONCATENATE($B26,$C26),PriorYR!$E$2:$N$1273,3,FALSE)) -> 0 | H26: =IF(ISNA(VLOOKUP(CONCATENATE($B26,$C26),PriorYR!$E$2:$N$1273,4,FALSE))=TRUE,0,VLOOKUP(CONCATENATE($B26,$C26),PriorYR!$E$2:$N$1273,4,FALSE)) -> 0 | I26: =IF(ISNA(VLOOKUP(CONCATENATE($B26,$C26),PriorYR!$E$2:$N$1273,7,FALSE))=TRUE,0,VLOOKUP(CONCATENATE($B26,$C26),PriorYR!$E$2:$N$1273,7,FALSE)) -> 0 | J26: =IF(ISNA(VLOOKUP(CONCATENATE($B26,$C26),PriorYR!$E$2:$N$1273,8,FALSE))=TRUE,0,VLOOKUP(CONCATENATE($B26,$C26),PriorYR!$E$2:$N$1273,8,FALSE)) -> 0 | K26: =IF(ISNA(VLOOKUP(CONCATENATE($B26,$C26),PriorYR!$E$2:$N$1273,9,FALSE))=TRUE,0,VLOOKUP(CONCATENATE($B26,$C26),PriorYR!$E$2:$N$1273,9,FALSE)) -> 0 | L26: =IF(ISNA(VLOOKUP(CONCATENATE($B26,$C26),PriorYR!$E$2:$N$1273,10,FALSE))=TRUE,0,VLOOKUP(CONCATENATE($B26,$C26),PriorYR!$E$2:$N$1273,10,FALSE)) -> 0 | N26: Equipment repair and maintenance agreements; not for building repairs or remodeling projects
A27: =IF(A$3="","",$A$3) | B27: =$C$2 -> 0 | C27: 500117 | D27: =VLOOKUP($C$2,Organization!$A$2:'Organization'!$D$153,3) | E27: =IF(C27="","",VLOOKUP(C27,Account!$A$2:$B$141,2)) -> Software License and Purchase | F27: =IF(ISNA(VLOOKUP(CONCATENATE($B27,$C27),PriorYR!$E$2:$N$1273,2,FALSE))=TRUE,0,VLOOKUP(CONCATENATE($B27,$C27),PriorYR!$E$2:$N$1273,2,FALSE)) -> 0 | G27: =IF(ISNA(VLOOKUP(CONCATENATE($B27,$C27),PriorYR!$E$2:$N$1273,3,FALSE))=TRUE,0,VLOOKUP(CONCATENATE($B27,$C27),PriorYR!$E$2:$N$1273,3,FALSE)) -> 0 | H27: =IF(ISNA(VLOOKUP(CONCATENATE($B27,$C27),PriorYR!$E$2:$N$1273,4,FALSE))=TRUE,0,VLOOKUP(CONCATENATE($B27,$C27),PriorYR!$E$2:$N$1273,4,FALSE)) -> 0 | I27: =IF(ISNA(VLOOKUP(CONCATENATE($B27,$C27),PriorYR!$E$2:$N$1273,7,FALSE))=TRUE,0,VLOOKUP(CONCATENATE($B27,$C27),PriorYR!$E$2:$N$1273,7,FALSE)) -> 0 | J27: =IF(ISNA(VLOOKUP(CONCATENATE($B27,$C27),PriorYR!$E$2:$N$1273,8,FALSE))=TRUE,0,VLOOKUP(CONCATENATE($B27,$C27),PriorYR!$E$2:$N$1273,8,FALSE)) -> 0 | K27: =IF(ISNA(VLOOKUP(CONCATENATE($B27,$C27),PriorYR!$E$2:$N$1273,9,FALSE))=TRUE,0,VLOOKUP(CONCATENATE($B27,$C27),PriorYR!$E$2:$N$1273,9,FALSE)) -> 0 | L27: =IF(ISNA(VLOOKUP(CONCATENATE($B27,$C27),PriorYR!$E$2:$N$1273,10,FALSE))=TRUE,0,VLOOKUP(CONCATENATE($B27,$C27),PriorYR!$E$2:$N$1273,10,FALSE)) -> 0 | N27: Classroom/Student use: Software licenses less than $5,000 and/or software maintenance agreements
A28: =IF(A$3="","",$A$3) | B28: =$C$2 -> 0 | C28: 500118 | D28: =VLOOKUP($C$2,Organization!$A$2:'Organization'!$D$153,4) -> 0 | E28: =IF(C28="","",VLOOKUP(C28,Account!$A$2:$B$141,2)) -> Travel and Conference | F28: =IF(ISNA(VLOOKUP(CONCATENATE($B28,$C28),PriorYR!$E$2:$N$1273,2,FALSE))=TRUE,0,VLOOKUP(CONCATENATE($B28,$C28),PriorYR!$E$2:$N$1273,2,FALSE)) -> 0 | G28: =IF(ISNA(VLOOKUP(CONCATENATE($B28,$C28),PriorYR!$E$2:$N$1273,3,FALSE))=TRUE,0,VLOOKUP(CONCATENATE($B28,$C28),PriorYR!$E$2:$N$1273,3,FALSE)) -> 0 | H28: =IF(ISNA(VLOOKUP(CONCATENATE($B28,$C28),PriorYR!$E$2:$N$1273,4,FALSE))=TRUE,0,VLOOKUP(CONCATENATE($B28,$C28),PriorYR!$E$2:$N$1273,4,FALSE)) -> 0 | I28: =IF(ISNA(VLOOKUP(CONCATENATE($B28,$C28),PriorYR!$E$2:$N$1273,7,FALSE))=TRUE,0,VLOOKUP(CONCATENATE($B28,$C28),PriorYR!$E$2:$N$1273,7,FALSE)) -> 0 | J28: =IF(ISNA(VLOOKUP(CONCATENATE($B28,$C28),PriorYR!$E$2:$N$1273,8,FALSE))=TRUE,0,VLOOKUP(CONCATENATE($B28,$C28),PriorYR!$E$2:$N$1273,8,FALSE)) -> 0 | K28: =IF(ISNA(VLOOKUP(CONCATENATE($B28,$C28),PriorYR!$E$2:$N$1273,9,FALSE))=TRUE,0,VLOOKUP(CONCATENATE($B28,$C28),PriorYR!$E$2:$N$1273,9,FALSE)) -> 0 | L28: =IF(ISNA(VLOOKUP(CONCATENATE($B28,$C28),PriorYR!$E$2:$N$1273,10,FALSE))=TRUE,0,VLOOKUP(CONCATENATE($B28,$C28),PriorYR!$E$2:$N$1273,10,FALSE)) -> 0 | M28: <<NOT FACULTY T&C PER FACULTY CONTRACT | N28: Authorized travel & conferenece for classified, administrative staff or for faculty beyond $200 Faculty contractual allocation
A29: =IF(A$3="","",$A$3) | B29: =$C$2 -> 0 | C29: 500125 | D29: =VLOOKUP($C$2,Organization!$A$2:'Organization'!$D$153,4) -> 0 | E29: =IF(C29="","",VLOOKUP(C29,Account!$A$2:$B$141,2)) -> Team and Student Travel | F29: =IF(ISNA(VLOOKUP(CONCATENATE($B29,$C29),PriorYR!$E$2:$N$1273,2,FALSE))=TRUE,0,VLOOKUP(CONCATENATE($B29,$C29),PriorYR!$E$2:$N$1273,2,FALSE)) -> 0 | G29: =IF(ISNA(VLOOKUP(CONCATENATE($B29,$C29),PriorYR!$E$2:$N$1273,3,FALSE))=TRUE,0,VLOOKUP(CONCATENATE($B29,$C29),PriorYR!$E$2:$N$1273,3,FALSE)) -> 0 | H29: =IF(ISNA(VLOOKUP(CONCATENATE($B29,$C29),PriorYR!$E$2:$N$1273,4,FALSE))=TRUE,0,VLOOKUP(CONCATENATE($B29,$C29),PriorYR!$E$2:$N$1273,4,FALSE)) -> 0 | I29: =IF(ISNA(VLOOKUP(CONCATENATE($B29,$C29),PriorYR!$E$2:$N$1273,7,FALSE))=TRUE,0,VLOOKUP(CONCATENATE($B29,$C29),PriorYR!$E$2:$N$1273,7,FALSE)) -> 0 | J29: =IF(ISNA(VLOOKUP(CONCATENATE($B29,$C29),PriorYR!$E$2:$N$1273,8,FALSE))=TRUE,0,VLOOKUP(CONCATENATE($B29,$C29),PriorYR!$E$2:$N$1273,8,FALSE)) -> 0 | K29: =IF(ISNA(VLOOKUP(CONCATENATE($B29,$C29),PriorYR!$E$2:$N$1273,9,FALSE))=TRUE,0,VLOOKUP(CONCATENATE($B29,$C29),PriorYR!$E$2:$N$1273,9,FALSE)) -> 0 | L29: =IF(ISNA(VLOOKUP(CONCATENATE($B29,$C29),PriorYR!$E$2:$N$1273,10,FALSE))=TRUE,0,VLOOKUP(CONCATENATE($B29,$C29),PriorYR!$E$2:$N$1273,10,FALSE)) -> 0 | N29: Travel and related expenses for students, including Athletics and student group transportation
A30: =IF(A$3="","",$A$3) | B30: =$C$2 -> 0 | C30: 500126 | D30: =VLOOKUP($C$2,Organization!$A$2:'Organization'!$D$153,4) -> 0 | E30: =IF(C30="","",VLOOKUP(C30,Account!$A$2:$B$141,2)) -> Professional Services | F30: =IF(ISNA(VLOOKUP(CONCATENATE($B30,$C30),PriorYR!$E$2:$N$1273,2,FALSE))=TRUE,0,VLOOKUP(CONCATENATE($B30,$C30),PriorYR!$E$2:$N$1273,2,FALSE)) -> 0 | G30: =IF(ISNA(VLOOKUP(CONCATENATE($B30,$C30),PriorYR!$E$2:$N$1273,3,FALSE))=TRUE,0,VLOOKUP(CONCATENATE($B30,$C30),PriorYR!$E$2:$N$1273,3,FALSE)) -> 0 | H30: =IF(ISNA(VLOOKUP(CONCATENATE($B30,$C30),PriorYR!$E$2:$N$1273,4,FALSE))=TRUE,0,VLOOKUP(CONCATENATE($B30,$C30),PriorYR!$E$2:$N$1273,4,FALSE)) -> 0 | I30: =IF(ISNA(VLOOKUP(CONCATENATE($B30,$C30),PriorYR!$E$2:$N$1273,7,FALSE))=TRUE,0,VLOOKUP(CONCATENATE($B30,$C30),PriorYR!$E$2:$N$1273,7,FALSE)) -> 0 | J30: =IF(ISNA(VLOOKUP(CONCATENATE($B30,$C30),PriorYR!$E$2:$N$1273,8,FALSE))=TRUE,0,VLOOKUP(CONCATENATE($B30,$C30),PriorYR!$E$2:$N$1273,8,FALSE)) -> 0 | K30: =IF(ISNA(VLOOKUP(CONCATENATE($B30,$C30),PriorYR!$E$2:$N$1273,9,FALSE))=TRUE,0,VLOOKUP(CONCATENATE($B30,$C30),PriorYR!$E$2:$N$1273,9,FALSE)) -> 0 | L30: =IF(ISNA(VLOOKUP(CONCATENATE($B30,$C30),PriorYR!$E$2:$N$1273,10,FALSE))=TRUE,0,VLOOKUP(CONCATENATE($B30,$C30),PriorYR!$E$2:$N$1273,10,FALSE)) -> 0 | N30: Professional services covered by a professional services contract
A31: =IF(A$3="","",$A$3) | B31: =$C$2 -> 0 | C31: 500127 | D31: =VLOOKUP($C$2,Organization!$A$2:'Organization'!$D$153,3) | E31: =IF(C31="","",VLOOKUP(C31,Account!$A$2:$B$141,2)) -> Printing Services | F31: =IF(ISNA(VLOOKUP(CONCATENATE($B31,$C31),PriorYR!$E$2:$N$1273,2,FALSE))=TRUE,0,VLOOKUP(CONCATENATE($B31,$C31),PriorYR!$E$2:$N$1273,2,FALSE)) -> 0 | G31: =IF(ISNA(VLOOKUP(CONCATENATE($B31,$C31),PriorYR!$E$2:$N$1273,3,FALSE))=TRUE,0,VLOOKUP(CONCATENATE($B31,$C31),PriorYR!$E$2:$N$1273,3,FALSE)) -> 0 | H31: =IF(ISNA(VLOOKUP(CONCATENATE($B31,$C31),PriorYR!$E$2:$N$1273,4,FALSE))=TRUE,0,VLOOKUP(CONCATENATE($B31,$C31),PriorYR!$E$2:$N$1273,4,FALSE)) -> 0 | I31: =IF(ISNA(VLOOKUP(CONCATENATE($B31,$C31),PriorYR!$E$2:$N$1273,7,FALSE))=TRUE,0,VLOOKUP(CONCATENATE($B31,$C31),PriorYR!$E$2:$N$1273,7,FALSE)) -> 0 | J31: =IF(ISNA(VLOOKUP(CONCATENATE($B31,$C31),PriorYR!$E$2:$N$1273,8,FALSE))=TRUE,0,VLOOKUP(CONCATENATE($B31,$C31),PriorYR!$E$2:$N$1273,8,FALSE)) -> 0 | K31: =IF(ISNA(VLOOKUP(CONCATENATE($B31,$C31),PriorYR!$E$2:$N$1273,9,FALSE))=TRUE,0,VLOOKUP(CONCATENATE($B31,$C31),PriorYR!$E$2:$N$1273,9,FALSE)) -> 0 | L31: =IF(ISNA(VLOOKUP(CONCATENATE($B31,$C31),PriorYR!$E$2:$N$1273,10,FALSE))=TRUE,0,VLOOKUP(CONCATENATE($B31,$C31),PriorYR!$E$2:$N$1273,10,FALSE)) -> 0 | N31: Printing produced commercially off-campus, not in college Printing Services. Duplicating on campus for instructional purposes should be budgeted in 410003
A32: =IF(A$3="","",$A$3) | B32: =$C$2 -> 0 | C32: 640001 | D32: =VLOOKUP($C$2,Organization!$A$2:'Organization'!$D$153,4) -> 0 | E32: =IF(C32="","",VLOOKUP(C32,Account!$A$2:$B$141,2)) -> Equipment under $4,999 | F32: =IF(ISNA(VLOOKUP(CONCATENATE($B32,$C32),PriorYR!$E$2:$N$1273,2,FALSE))=TRUE,0,VLOOKUP(CONCATENATE($B32,$C32),PriorYR!$E$2:$N$1273,2,FALSE)) -> 0 | G32: =IF(ISNA(VLOOKUP(CONCATENATE($B32,$C32),PriorYR!$E$2:$N$1273,3,FALSE))=TRUE,0,VLOOKUP(CONCATENATE($B32,$C32),PriorYR!$E$2:$N$1273,3,FALSE)) -> 0 | H32: =IF(ISNA(VLOOKUP(CONCATENATE($B32,$C32),PriorYR!$E$2:$N$1273,4,FALSE))=TRUE,0,VLOOKUP(CONCATENATE($B32,$C32),PriorYR!$E$2:$N$1273,4,FALSE)) -> 0 | I32: =IF(ISNA(VLOOKUP(CONCATENATE($B32,$C32),PriorYR!$E$2:$N$1273,7,FALSE))=TRUE,0,VLOOKUP(CONCATENATE($B32,$C32),PriorYR!$E$2:$N$1273,7,FALSE)) -> 0 | J32: =IF(ISNA(VLOOKUP(CONCATENATE($B32,$C32),PriorYR!$E$2:$N$1273,8,FALSE))=TRUE,0,VLOOKUP(CONCATENATE($B32,$C32),PriorYR!$E$2:$N$1273,8,FALSE)) -> 0 | K32: =IF(ISNA(VLOOKUP(CONCATENATE($B32,$C32),PriorYR!$E$2:$N$1273,9,FALSE))=TRUE,0,VLOOKUP(CONCATENATE($B32,$C32),PriorYR!$E$2:$N$1273,9,FALSE)) -> 0 | L32: =IF(ISNA(VLOOKUP(CONCATENATE($B32,$C32),PriorYR!$E$2:$N$1273,10,FALSE))=TRUE,0,VLOOKUP(CONCATENATE($B32,$C32),PriorYR!$E$2:$N$1273,10,FALSE)) -> 0 | N32: Items with greater than one-year life; not computers - see account 640004
A33: =IF(A$3="","",$A$3) | B33: =$C$2 -> 0 | C33: 640004 | D33: =VLOOKUP($C$2,Organization!$A$2:'Organization'!$D$153,4) -> 0 | E33: =IF(C33="","",VLOOKUP(C33,Account!$A$2:$B$141,2)) -> Computer Hardware under $4,999 | F33: =IF(ISNA(VLOOKUP(CONCATENATE($B33,$C33),PriorYR!$E$2:$N$1273,2,FALSE))=TRUE,0,VLOOKUP(CONCATENATE($B33,$C33),PriorYR!$E$2:$N$1273,2,FALSE)) -> 0 | G33: =IF(ISNA(VLOOKUP(CONCATENATE($B33,$C33),PriorYR!$E$2:$N$1273,3,FALSE))=TRUE,0,VLOOKUP(CONCATENATE($B33,$C33),PriorYR!$E$2:$N$1273,3,FALSE)) -> 0 | H33: =IF(ISNA(VLOOKUP(CONCATENATE($B33,$C33),PriorYR!$E$2:$N$1273,4,FALSE))=TRUE,0,VLOOKUP(CONCATENATE($B33,$C33),PriorYR!$E$2:$N$1273,4,FALSE)) -> 0 | I33: =IF(ISNA(VLOOKUP(CONCATENATE($B33,$C33),PriorYR!$E$2:$N$1273,7,FALSE))=TRUE,0,VLOOKUP(CONCATENATE($B33,$C33),PriorYR!$E$2:$N$1273,7,FALSE)) -> 0 | J33: =IF(ISNA(VLOOKUP(CONCATENATE($B33,$C33),PriorYR!$E$2:$N$1273,8,FALSE))=TRUE,0,VLOOKUP(CONCATENATE($B33,$C33),PriorYR!$E$2:$N$1273,8,FALSE)) -> 0 | K33: =IF(ISNA(VLOOKUP(CONCATENATE($B33,$C33),PriorYR!$E$2:$N$1273,9,FALSE))=TRUE,0,VLOOKUP(CONCATENATE($B33,$C33),PriorYR!$E$2:$N$1273,9,FALSE)) -> 0 | L33: =IF(ISNA(VLOOKUP(CONCATENATE($B33,$C33),PriorYR!$E$2:$N$1273,10,FALSE))=TRUE,0,VLOOKUP(CONCATENATE($B33,$C33),PriorYR!$E$2:$N$1273,10,FALSE)) -> 0 | N33: Computer and related equipment witih a value less than $4,999, greater than 1 year useful life
A34: =IF(A$3="","",$A$3) | B34: =$C$2 -> 0 | C34: 640005 | D34: =VLOOKUP($C$2,Organization!$A$2:'Organization'!$D$153,4) -> 0 | E34: =IF(C34="","",VLOOKUP(C34,Account!$A$2:$B$141,2)) -> Computer Software under $4,999 | F34: =IF(ISNA(VLOOKUP(CONCATENATE($B34,$C34),PriorYR!$E$2:$N$1273,2,FALSE))=TRUE,0,VLOOKUP(CONCATENATE($B34,$C34),PriorYR!$E$2:$N$1273,2,FALSE)) -> 0 | G34: =IF(ISNA(VLOOKUP(CONCATENATE($B34,$C34),PriorYR!$E$2:$N$1273,3,FALSE))=TRUE,0,VLOOKUP(CONCATENATE($B34,$C34),PriorYR!$E$2:$N$1273,3,FALSE)) -> 0 | H34: =IF(ISNA(VLOOKUP(CONCATENATE($B34,$C34),PriorYR!$E$2:$N$1273,4,FALSE))=TRUE,0,VLOOKUP(CONCATENATE($B34,$C34),PriorYR!$E$2:$N$1273,4,FALSE)) -> 0 | I34: =IF(ISNA(VLOOKUP(CONCATENATE($B34,$C34),PriorYR!$E$2:$N$1273,7,FALSE))=TRUE,0,VLOOKUP(CONCATENATE($B34,$C34),PriorYR!$E$2:$N$1273,7,FALSE)) -> 0 | J34: =IF(ISNA(VLOOKUP(CONCATENATE($B34,$C34),PriorYR!$E$2:$N$1273,8,FALSE))=TRUE,0,VLOOKUP(CONCATENATE($B34,$C34),PriorYR!$E$2:$N$1273,8,FALSE)) -> 0 | K34: =IF(ISNA(VLOOKUP(CONCATENATE($B34,$C34),PriorYR!$E$2:$N$1273,9,FALSE))=TRUE,0,VLOOKUP(CONCATENATE($B34,$C34),PriorYR!$E$2:$N$1273,9,FALSE)) -> 0 | L34: =IF(ISNA(VLOOKUP(CONCATENATE($B34,$C34),PriorYR!$E$2:$N$1273,10,FALSE))=TRUE,0,VLOOKUP(CONCATENATE($B34,$C34),PriorYR!$E$2:$N$1273,10,FALSE)) -> 0 | N34: Computer software licenses
A35: =IF(A$3="","",$A$3) | B35: =$C$2 -> 0 | C35: 640011 | D35: =VLOOKUP($C$2,Organization!$A$2:'Organization'!$D$153,4) -> 0 | E35: =IF(C35="","",VLOOKUP(C35,Account!$A$2:$B$141,2)) -> Equipment over $4,999 | F35: =IF(ISNA(VLOOKUP(CONCATENATE($B35,$C35),PriorYR!$E$2:$N$1273,2,FALSE))=TRUE,0,VLOOKUP(CONCATENATE($B35,$C35),PriorYR!$E$2:$N$1273,2,FALSE)) -> 0 | G35: =IF(ISNA(VLOOKUP(CONCATENATE($B35,$C35),PriorYR!$E$2:$N$1273,3,FALSE))=TRUE,0,VLOOKUP(CONCATENATE($B35,$C35),PriorYR!$E$2:$N$1273,3,FALSE)) -> 0 | H35: =IF(ISNA(VLOOKUP(CONCATENATE($B35,$C35),PriorYR!$E$2:$N$1273,4,FALSE))=TRUE,0,VLOOKUP(CONCATENATE($B35,$C35),PriorYR!$E$2:$N$1273,4,FALSE)) -> 0 | I35: =IF(ISNA(VLOOKUP(CONCATENATE($B35,$C35),PriorYR!$E$2:$N$1273,7,FALSE))=TRUE,0,VLOOKUP(CONCATENATE($B35,$C35),PriorYR!$E$2:$N$1273,7,FALSE)) -> 0 | J35: =IF(ISNA(VLOOKUP(CONCATENATE($B35,$C35),PriorYR!$E$2:$N$1273,8,FALSE))=TRUE,0,VLOOKUP(CONCATENATE($B35,$C35),PriorYR!$E$2:$N$1273,8,FALSE)) -> 0 | K35: =IF(ISNA(VLOOKUP(CONCATENATE($B35,$C35),PriorYR!$E$2:$N$1273,9,FALSE))=TRUE,0,VLOOKUP(CONCATENATE($B35,$C35),PriorYR!$E$2:$N$1273,9,FALSE)) -> 0 | L35: =IF(ISNA(VLOOKUP(CONCATENATE($B35,$C35),PriorYR!$E$2:$N$1273,10,FALSE))=TRUE,0,VLOOKUP(CONCATENATE($B35,$C35),PriorYR!$E$2:$N$1273,10,FALSE)) -> 0 | N35: Items with value $5,000 or above, greater than one-year life, not computers - see account 640015
A36: =IF(A$3="","",$A$3) | B36: =$C$2 -> 0 | C36: 640014 | D36: =VLOOKUP($C$2,Organization!$A$2:'Organization'!$D$153,4) -> 0 | E36: =IF(C36="","",VLOOKUP(C36,Account!$A$2:$B$141,2)) -> Computer Hardware over $4,999 | F36: =IF(ISNA(VLOOKUP(CONCATENATE($B36,$C36),PriorYR!$E$2:$N$1273,2,FALSE))=TRUE,0,VLOOKUP(CONCATENATE($B36,$C36),PriorYR!$E$2:$N$1273,2,FALSE)) -> 0 | G36: =IF(ISNA(VLOOKUP(CONCATENATE($B36,$C36),PriorYR!$E$2:$N$1273,3,FALSE))=TRUE,0,VLOOKUP(CONCATENATE($B36,$C36),PriorYR!$E$2:$N$1273,3,FALSE)) -> 0 | H36: =IF(ISNA(VLOOKUP(CONCATENATE($B36,$C36),PriorYR!$E$2:$N$1273,4,FALSE))=TRUE,0,VLOOKUP(CONCATENATE($B36,$C36),PriorYR!$E$2:$N$1273,4,FALSE)) -> 0 | I36: =IF(ISNA(VLOOKUP(CONCATENATE($B36,$C36),PriorYR!$E$2:$N$1273,7,FALSE))=TRUE,0,VLOOKUP(CONCATENATE($B36,$C36),PriorYR!$E$2:$N$1273,7,FALSE)) -> 0 | J36: =IF(ISNA(VLOOKUP(CONCATENATE($B36,$C36),PriorYR!$E$2:$N$1273,8,FALSE))=TRUE,0,VLOOKUP(CONCATENATE($B36,$C36),PriorYR!$E$2:$N$1273,8,FALSE)) -> 0 | K36: =IF(ISNA(VLOOKUP(CONCATENATE($B36,$C36),PriorYR!$E$2:$N$1273,9,FALSE))=TRUE,0,VLOOKUP(CONCATENATE($B36,$C36),PriorYR!$E$2:$N$1273,9,FALSE)) -> 0 | L36: =IF(ISNA(VLOOKUP(CONCATENATE($B36,$C36),PriorYR!$E$2:$N$1273,10,FALSE))=TRUE,0,VLOOKUP(CONCATENATE($B36,$C36),PriorYR!$E$2:$N$1273,10,FALSE)) -> 0 | N36: Computer and related equipment witih a value $5,000 or above, greater than 1 year useful life
A37: =IF(A$3="","",$A$3) | B37: =$C$2 -> 0 | C37: 640015 | D37: =VLOOKUP($C$2,Organization!$A$2:'Organization'!$D$153,4) -> 0 | E37: =IF(C37="","",VLOOKUP(C37,Account!$A$2:$B$141,2)) -> Computer Software over $4,999 | F37: =IF(ISNA(VLOOKUP(CONCATENATE($B37,$C37),PriorYR!$E$2:$N$1273,2,FALSE))=TRUE,0,VLOOKUP(CONCATENATE($B37,$C37),PriorYR!$E$2:$N$1273,2,FALSE)) -> 0 | G37: =IF(ISNA(VLOOKUP(CONCATENATE($B37,$C37),PriorYR!$E$2:$N$1273,3,FALSE))=TRUE,0,VLOOKUP(CONCATENATE($B37,$C37),PriorYR!$E$2:$N$1273,3,FALSE)) -> 0 | H37: =IF(ISNA(VLOOKUP(CONCATENATE($B37,$C37),PriorYR!$E$2:$N$1273,4,FALSE))=TRUE,0,VLOOKUP(CONCATENATE($B37,$C37),PriorYR!$E$2:$N$1273,4,FALSE)) -> 0 | I37: =IF(ISNA(VLOOKUP(CONCATENATE($B37,$C37),PriorYR!$E$2:$N$1273,7,FALSE))=TRUE,0,VLOOKUP(CONCATENATE($B37,$C37),PriorYR!$E$2:$N$1273,7,FALSE)) -> 0 | J37: =IF(ISNA(VLOOKUP(CONCATENATE($B37,$C37),PriorYR!$E$2:$N$1273,8,FALSE))=TRUE,0,VLOOKUP(CONCATENATE($B37,$C37),PriorYR!$E$2:$N$1273,8,FALSE)) -> 0 | K37: =IF(ISNA(VLOOKUP(CONCATENATE($B37,$C37),PriorYR!$E$2:$N$1273,9,FALSE))=TRUE,0,VLOOKUP(CONCATENATE($B37,$C37),PriorYR!$E$2:$N$1273,9,FALSE)) -> 0 | L37: =IF(ISNA(VLOOKUP(CONCATENATE($B37,$C37),PriorYR!$E$2:$N$1273,10,FALSE))=TRUE,0,VLOOKUP(CONCATENATE($B37,$C37),PriorYR!$E$2:$N$1273,10,FALSE)) -> 0
A38: =IF($C38="","",$A$3) | B38: =IF(C38="","",$C$2) | D38: =IF(C38="","",VLOOKUP($C$2,Organization!$A$2:'Organization'!$D$153,4)) | E38: =IF(C38="","<<<Enter Account Code Not Shown Above",VLOOKUP(C38,Account!$A$2:$B$141,2)) -> <<<Enter Account Code Not Shown Above
A39: =IF($C39="","",$A$3) | B39: =IF(C39="","",$C$2) | D39: =IF(C39="","",VLOOKUP($C$2,Organization!$A$2:'Organization'!$D$153,4)) | E39: =IF(C39="","<<<Enter Account Code Not Shown Above",VLOOKUP(C39,Account!$A$2:$B$141,2)) -> <<<Enter Account Code Not Shown Above
A40: =IF($C40="","",$A$3) | B40: =IF(C40="","",$C$2) | D40: =IF(C40="","",VLOOKUP($C$2,Organization!$A$2:'Organization'!$D$153,4)) | E40: =IF(C40="","<<<Enter Account Code Not Shown Above",VLOOKUP(C40,Account!$A$2:$B$141,2)) -> <<<Enter Account Code Not Shown Above
...

Sheet BudgetNotes
A1: Please use this BudgetNotes worksheet to add any notes to explain budget items. Using this worksheet rather than a separate page helps keep budget information together in one document. For expenses with multiple items, please consider entering each on a separate line and then displaying a total for that expense to help us understand how to treat the budget line item. For Example: Use Column A to enter amount; use Column B for an explanation. Sum your list as a total to enter for the expense account. 2,400 Annual Maintenance agreement for WidgetSystems 1,575 Annual Maintenance agreement for TheOtherThing 1,000 Budget for on-call repair, as needed 4,975 Total Repair & Maintenance budgeted <<>> Show this amount for account 500115 on Budget sheet Thank you. Col A Col B >> Amounts Notes

Sheet Organization
A1: Organization | B1: Description | C1: Instructional | D1: Non-Instructional
A2: 0 | B2: <<Enter Cost Center Number
A3: 100000 | B3: President WV | D3: 660000
A4: 100001 | B4: President's Fund
A5: 100002 | B5: Education Initiatives
A6: 100003 | B6: WVC Advancement Office
A7: 100010 | B7: Marketing Pub Inform Office | D7: 671000
A8: 100011 | B8: Institutional Research | D8: 660000
A9: 100012 | B9: Academic Senate | D9: 603000
A10: 100013 | B10: Classified Senate WV | D10: 675000
A11: 100014 | B11: Professional Development WV | D11: 675000
A12: 100015 | B12: Commencement | D12: 649000
A13: 101000 | B13: VP of Instruction WV | D13: 601000
A14: 101001 | B14: Honors
A15: 101010 | B15: Accreditation | D15: 609000
A16: 101011 | B16: Distance Learning
A17: 102000 | B17: VP of Student Services | D17: 645000
A18: 102001 | B18: Health Services | D18: 644000
A19: 102002 | B19: Veterans | D19: 648000
A20: 102003 | B20: Outreach | D20: 649000
A21: 102004 | B21: Middle School Program | D21: 619000
A22: 102005 | B22: DESP | C22: 210000 | D22: 642000
A23: 102006 | B23: SSSP Student Success and Supp Prog | D23: 632000
A24: 102007 | B24: Guided Pathways | D24: 632000
A25: 103000 | B25: College Admin Services Office | D25: 679000
A26: 103001 | B26: College Facilities Use Office | D26: 683000
A27: 103002 | B27: Printing Services | D27: 679000
A28: 103003 | B28: Printing Services Chargeback | D28: 679000
A29: 103004 | B29: Instructional Tech Support WV | D29: 679000
A30: 103005 | B30: Multi Media Operations WV | D30: 679000
A31: 103006 | B31: Academic Systems WV | D31: 679000
A32: 103007 | B32: MIS WV | D32: 678000
A33: 103008 | B33: Maint and Repair WV | D33: 679000
A34: 103009 | B34: Improvement Projects WV | D34: 679000
... A37: 103999 | B37: Collegewide Contingency | D37: 679000
A38: 104000 | B38: not in use
A39: 104100 | B39: Community Ed General | C39: 80000 | D39: 684000
A40: 104101 | B40: Not in Use: Non Credit Education (See 1051005)
A41: 104102 | B41: Community Ed Fee Based | D41: 682000
A42: 104103 | B42: Contract Ed II
...

Sheet TOPS
A1: program | B1: title
A2: 0 | B2: Revenue
A3: 10920 | B3: Floriculture n Floristry
A4: 11510 | B4: Parks and Outdoor Recreation
A5: 20100 | B5: Architecture and Architectural Tech
A6: 20110 | B6: Landscape Architecture transfer
A7: 29900 | B7: Other Architecture and Envnmtl Dsgn
A8: 40000 | B8: Biological Sciences
A9: 40100 | B9: Biology General
A10: 40200 | B10: Botany General
A11: 40300 | B11: Microbiology
A12: 40700 | B12: Zoology General
A13: 40800 | B13: Natural History
... A445: 790000 | B445: Appropriation for Contingencies
A446: 81A000 | B446: Preconstruction
A447: 81B000 | B447: Program Management
A448: 81C000 | B448: Operational Expenses
A449: 81F000 | B449: Final Project Proposal FPP
A450: 82A000 | B450: Architect Fee PP
A451: 82B000 | B451: Project Mgmt PP
A452: 82C000 | B452: Prelim Tests PP
A453: 82D000 | B453: Other Costs PP
A454: 83A000 | B454: Architect Fee WD
A455: 83B000 | B455: Project Mgmt WD
A456: 83C000 | B456: OSA Plan Check Fee WD
A457: 83D000 | B457: CC Plan Check Fee WD
A458: 83 | B458: Other Costs WD
A459: 84A000 | B459: Utility Service Construct
A460: 84B000 | B460: Site Dev Service Construct
A461: 84C000 | B461: Site Dev General Construct
A462: 84D000 | B462: Other Site Dev Construct
A463: 84 | B463: Reconstruction Construct
A464: 84F000 | B464: New Construct Construct
A465: 84G000 | B465: Other Construct
A466: 85A000 | B466: Contingency
A467: 86A000 | B467: Architect and Eng Oversight
A468: 87A000 | B468: Tests
A469: 87B000 | B469: Inspections
A470: 88A000 | B470: Construction Mgmt
A471: 8A1000 | B471: Furniture Group II Equipment
...

Sheet Account
A1: Value | B1: Description
A2: 0 | B2: <<<Enter account code
A3: 110010 | B3: FT Instructor Instruction
A4: 110011 | B4: FT Couns Lib In Load Instruction
A5: 110015 | B5: FT Lab Faculty Specialist
A6: 110080 | B6: FT Sabbatical Leave Instruction
A7: 110081 | B7: FT Banked Leave Instruction
A8: 110082 | B8: FT R and R Leave Instruction
A9: 120010 | B9: Administrators and Deans Noninstr
A10: 120021 | B10: Reassigned Time for Shared Gov
A11: 120022 | B11: Reassigned Time for Faculty
A12: 120024 | B12: Reassigned Time for Dept Chair
A13: 120025 | B13: Reassigned Time for Div Chair
... A141: 640099 | B141: Non Capitalized Assets

Sheet Responsibility
A1: Value | B1: Description
A2: 0 | B2: -----
A3: 100 | B3: President WV
A4: 101 | B4: VP of Instruction WV
A5: 102 | B5: VP of Student Services WV
A6: 103 | B6: VP Administrative Services WV
A7: 104 | B7: Community Education
A8: 105 | B8: Dean of Instruction
A9: 106 | B9: Student Activities
A10: 107 | B10: Director Student Equity and Success
A11: 108 | B11: Career and Technical Education
A12: 109 | B12: Dean of Student Services
A13: 110 | B13: Admissions and Records
... A23: 198 | B23: Child Development Center

Sheet PriorYR
A1: Organization Description | B1: Object Description | C1: Organization | D1: Object | E1: LookupValue | F1: FY21Proposed | G1: FY20Budget | H1: FY20 YTD | I1: ActualYTD | J1: EncumberedYTD | K1: FY19Actual | L1: FY18Actual | M1: FY17Actual | N1: FY16Actual
A2: President WV | B2: PT Stipends | C2: 100000 | D2: 140015 | E2: =CONCATENATE(C2,D2) -> 100000140015 | F2: 300 | G2: 300 | H2: 0 | I2: 0 | J2: 0 | K2: 299.75 | L2: 0 | M2: 5013.6 | N2: 99.99
A3: President WV | B3: PT Hourly Classified | C3: 100000 | D3: 230010 | E3: =CONCATENATE(C3,D3) -> 100000230010 | F3: 7000 | G3: 7000 | H3: 189.06 | I3: 189.06 | J3: 0 | K3: 11424.02 | L3: 2527.71 | M3: 0 | N3: 0
A4: President WV | B4: Classified Overtime | C4: 100000 | D4: 230020 | E4: =CONCATENATE(C4,D4) -> 100000230020 | F4: 600 | G4: 600 | H4: 0 | I4: 0 | J4: 0 | K4: 0 | L4: 479.84 | M4: 414.6 | N4: 231.56
A5: President WV | B5: PT Classified Replacements | C5: 100000 | D5: 230025 | E5: =CONCATENATE(C5,D5) -> 100000230025 | F5: 0 | G5: 0 | H5: 0 | I5: 0 | J5: 0 | K5: 0 | L5: 4177.01 | M5: 0 | N5: 2855.04
A6: President WV | B6: PT Classified Special Services | C6: 100000 | D6: 230050 | E6: =CONCATENATE(C6,D6) -> 100000230050 | F6: 2000 | G6: 2000 | H6: 2675.1 | I6: 2675.1 | J6: 0 | K6: 0 | L6: 858.83 | M6: 3091.77 | N6: 0
A7: President WV | B7: Books and Magazines | C7: 100000 | D7: 410001 | E7: =CONCATENATE(C7,D7) -> 100000410001 | F7: 250 | G7: 250 | H7: 0 | I7: 0 | J7: 0 | K7: 0 | L7: 270 | M7: 0 | N7: 0
A8: President WV | B8: Duplicating | C8: 100000 | D8: 410003 | E8: =CONCATENATE(C8,D8) -> 100000410003 | F8: 1500 | G8: 1500 | H8: 0 | I8: 0 | J8: 0 | K8: 0 | L8: 0 | M8: 0 | N8: 0
A9: President WV | B9: Supplies and Materials | C9: 100000 | D9: 410004 | E9: =CONCATENATE(C9,D9) -> 100000410004 | F9: 33000 | G9: 33000 | H9: 2500 | I9: 498.85 | J9: 2001.15 | K9: 3896.45 | L9: 9757.22 | M9: 3137.57 | N9: 10617.13
A10: President WV | B10: Food | C10: 100000 | D10: 410005 | E10: =CONCATENATE(C10,D10) -> 100000410005 | F10: 8000 | G10: 8000 | H10: 2236.21 | I10: 236.21 | J10: 2000 | K10: 15008.86 | L10: 16883.8 | M10: 15197.92 | N10: 0
A11: President WV | B11: Contract Services | C11: 100000 | D11: 500104 | E11: =CONCATENATE(C11,D11) -> 100000500104 | F11: 12800 | G11: 12800 | H11: 1689 | I11: 384 | J11: 1305 | K11: 6888.08 | L11: 7761.93 | M11: 32676.4 | N11: 7700
A12: President WV | B12: Dues and Membership | C12: 100000 | D12: 500107 | E12: =CONCATENATE(C12,D12) -> 100000500107 | F12: 9200 | G12: 9200 | H12: 0 | I12: 0 | J12: 0 | K12: 14750 | L12: 10841 | M12: 0 | N12: 2587.5
A13: President WV | B13: Rents and Leases | C13: 100000 | D13: 500114 | E13: =CONCATENATE(C13,D13) -> 100000500114 | F13: 0 | G13: 0 | H13: 0 | I13: 0 | J13: 0 | K13: 0 | L13: 0 | M13: 0 | N13: 744.28
... A555: EOPS | B555: Stud Loans | C555: 107002 | D555: 760005 | E555: =CONCATENATE(C555,D555) -> 107002760005 | F555: 440 | G555: 440 | H555: 0 | I555: 0 | J555: 0 | K555: 547 | L555: 70 | M555: -299 | N555: 468
B556: Supplies and Materials | C556: 107003 | D556: 410004 | E556: =CONCATENATE(C556,D556) -> 107003410004 | F556: 0 | G556: 0 | H556: 0 | I556: 0 | J556: 0 | K556: 0 | L556: 0 | M556: 0 | N556: 901.92
B557: Travel and Conference | C557: 107003 | D557: 500118 | E557: =CONCATENATE(C557,D557) -> 107003500118 | F557: 0 | G557: 0 | H557: 0 | I557: 0 | J557: 0 | K557: 0 | L557: 0 | M557: 0 | N557: 325.83
B558: Other Student Aid | C558: 107003 | D558: 760000 | E558: =CONCATENATE(C558,D558) -> 107003760000 | F558: 0 | G558: 0 | H558: 0 | I558: 0 | J558: 0 | K558: 0 | L558: 0 | M558: 0 | N558: 4000
B559: Stud Bus Pass and Cards | C559: 107003 | D559: 760001 | E559: =CONCATENATE(C559,D559) -> 107003760001 | F559: 0 | G559: 0 | H559: 0 | I559: 0 | J559: 0 | K559: 0 | L559: 0 | M559: 0 | N559: 7764.45
B560: Stud Grants | C560: 107003 | D560: 760003 | E560: =CONCATENATE(C560,D560) -> 107003760003 | F560: 0 | G560: 0 | H560: 0 | I560: 0 | J560: 0 | K560: 0 | L560: 0 | M560: 0 | N560: 21650
A561: Umoja/Success | B561: PT Classified Special Services | C561: 107004 | D561: 230050 | E561: =CONCATENATE(C561,D561) -> 107004230050 | F561: 6000 | G561: 6000 | H561: 0 | I561: 0 | J561: 0 | K561: 0 | L561: 0 | M561: 0 | N561: 0
A562: Umoja/Success | B562: Books and Magazines | C562: 107004 | D562: 410001 | E562: =CONCATENATE(C562,D562) -> 107004410001 | F562: 1500 | G562: 1500 | H562: 0 | I562: 0 | J562: 0 | K562: 1306.37 | L562: 0 | M562: 0 | N562: 0
A563: Umoja/Success | B563: Supplies and Materials | C563: 107004 | D563: 410004 | E563: =CONCATENATE(C563,D563) -> 107004410004 | F563: 3500 | G563: 3500 | H563: 0 | I563: 0 | J563: 0 | K563: 1335.1 | L563: 0 | M563: 0 | N563: 0
A564: Umoja/Success | B564: Food | C564: 107004 | D564: 410005 | E564: =CONCATENATE(C564,D564) -> 107004410005 | F564: 1800 | G564: 1800 | H564: 0 | I564: 0 | J564: 0 | K564: 1705.09 | L564: 0 | M564: 0 | N564: 0
A565: Umoja/Success | B565: Contract Services | C565: 107004 | D565: 500104 | E565: =CONCATENATE(C565,D565) -> 107004500104 | F565: 3200 | G565: 3200 | H565: 0 | I565: 0 | J565: 0 | K565: 0 | L565: 0 | M565: 0 | N565: 0
A566: Umoja/Success | B566: Team and Student Travel | C566: 107004 | D566: 500125 | E566: =CONCATENATE(C566,D566) -> 107004500125 | F566: 14501 | G566: 14501 | H566: 1200 | I566: 1200 | J566: 0 | K566: 11059.9 | L566: 0 | M566: 0 | N566: 0
A567: Puente | B567: Duplicating | C567: 107005 | D567: 410003 | E567: =CONCATENATE(C567,D567) -> 107005410003 | F567: 256 | G567: 256 | H567: 0 | I567: 0 | J567: 0 | K567: 0 | L567: 0 | M567: 0 | N567: 0
A568: Puente | B568: Supplies and Materials | C568: 107005 | D568: 410004 | E568: =CONCATENATE(C568,D568) -> 107005410004 | F568: 2600 | G568: 2600 | H568: 0 | I568: 0 | J568: 0 | K568: 1484.74 | L568: 0 | M568: 0 | N568: 0
A569: Puente | B569: Food | C569: 107005 | D569: 410005 | E569: =CONCATENATE(C569,D569) -> 107005410005 | F569: 5950 | G569: 5950 | H569: 0 | I569: 0 | J569: 0 | K569: 5427.13 | L569: 0 | M569: 0 | N569: 0
A570: Puente | B570: Contract Services | C570: 107005 | D570: 500104 | E570: =CONCATENATE(C570,D570) -> 107005500104 | F570: 1000 | G570: 1000 | H570: 0 | I570: 0 | J570: 0 | K570: 1479.56 | L570: 0 | M570: 0 | N570: 0
A571: Puente | B571: Postage | C571: 107005 | D571: 500113 | E571: =CONCATENATE(C571,D571) -> 107005500113 | F571: 44 | G571: 44 | H571: 44 | I571: 44 | J571: 0 | K571: 0 | L571: 0 | M571: 0 | N571: 0
A572: Puente | B572: Travel and Conference | C572: 107005 | D572: 500118 | E572: =CONCATENATE(C572,D572) -> 107005500118 | F572: 1500 | G572: 1500 | H572: 0 | I572: 0 | J572: 0 | K572: 1019.17 | L572: 0 | M572: 0 | N572: 0
... A1273: First 5 Short-Term | B1273: Travel and Conference | C1273: 198301 | D1273: 500118 | E1273: =CONCATENATE(C1273,D1273) -> 198301500118 | F1273: 0 | G1273: 0 | H1273: 0 | I1273: 0 | J1273: 0 | K1273: 0 | L1273: 417.75 | M1273: 1754.79 | N1273: 0
