Workbook

Sheet Contact-List
A1: Updated: 09/22/2016
A2: Category | B2: Division/Area | C2: Administrator | D2: Program | E2: Primary Contact/Chair | F2: Email | G2: Ext | H2: Office | I2: Secondary Contact | J2: Email | K2: Ext | L2: Office
A3: =IF(ISBLANK(Instruction!A2), "", Instruction!A2) -> Instruction | B3: =IF(ISBLANK(Instruction!B2), "", Instruction!B2) -> PROFESSIONAL STUDIES | C3: =IF(ISBLANK(Instruction!C2), "", Instruction!C2) -> Jim Henderson, Division Chair | D3: =IF(ISBLANK(Instruction!D2), "", Instruction!D2) -> Accounting | E3: =IF(ISBLANK(Instruction!E2), "", Instruction!E2) -> Randy Castello | F3: =IF(ISBLANK(Instruction!F2), "", Instruction!F2) -> Randy.Castello@westvalley.edu | G3: =IF(ISBLANK(Instruction!G2), "", Instruction!G2) -> 2427 | H3: =IF(ISBLANK(Instruction!H2), "", Instruction!H2) -> BUS J | ... L3: =IF(ISBLANK(Instruction!L2), "", Instruction!L2)
A4: =IF(ISBLANK(Instruction!A3), "", Instruction!A3) -> Instruction | B4: =IF(ISBLANK(Instruction!B3), "", Instruction!B3) -> PROFESSIONAL STUDIES | C4: =IF(ISBLANK(Instruction!C3), "", Instruction!C3) -> Jim Henderson, Division Chair | D4: =IF(ISBLANK(Instruction!D3), "", Instruction!D3) -> Administration of Justice | E4: =IF(ISBLANK(Instruction!E3), "", Instruction!E3) -> Renee Paquier | F4: =IF(ISBLANK(Instruction!F3), "", Instruction!F3) -> Renee.Paquier@westvalley.edu | G4: =IF(ISBLANK(Instruction!G3), "", Instruction!G3) -> 2180 | H4: =IF(ISBLANK(Instruction!H3), "", Instruction!H3) -> AJ 3A | ... L4: =IF(ISBLANK(Instruction!L3), "", Instruction!L3)
A5: =IF(ISBLANK(Administration!A5), "", Administration!A5) -> Administrative | B5: =IF(ISBLANK(Administration!B5), "", Administration!B5) -> Administrative Services | C5: =IF(ISBLANK(Administration!C5), "", Administration!C5) -> Pat Fenton | D5: =IF(ISBLANK(Administration!D5), "", Administration!D5) -> Administrative Services | E5: =IF(ISBLANK(Administration!E5), "", Administration!E5) -> Pat Fenton | F5: =IF(ISBLANK(Administration!F5), "", Administration!F5) -> Pat.Fenton@westvalley.edu | G5: =IF(ISBLANK(Administration!G5), "", Administration!G5) | H5: =IF(ISBLANK(Administration!H5), "", Administration!H5) | ... L5: =IF(ISBLANK(Administration!L5), "", Administration!L5)
A6: =IF(ISBLANK('Non-Instruction'!A2), "", 'Non-Instruction'!A2) -> Non-Instructional | B6: =IF(ISBLANK('Non-Instruction'!B2), "", 'Non-Instruction'!B2) -> Student Services | C6: =IF(ISBLANK('Non-Instruction'!C2), "", 'Non-Instruction'!C2) -> Victoria Hindes, VP | D6: =IF(ISBLANK('Non-Instruction'!D2), "", 'Non-Instruction'!D2) -> Admissions/Records | E6: =IF(ISBLANK('Non-Instruction'!E2), "", 'Non-Instruction'!E2) -> Maritza Cantarero | F6: =IF(ISBLANK('Non-Instruction'!F2), "", 'Non-Instruction'!F2) -> Maritza.Cantarero@westvalley.edu | G6: =IF(ISBLANK('Non-Instruction'!G2), "", 'Non-Instruction'!G2) | H6: =IF(ISBLANK('Non-Instruction'!H2), "", 'Non-Instruction'!H2) | ... L6: =IF(ISBLANK('Non-Instruction'!L2), "", 'Non-Instruction'!L2)
A7: =IF(ISBLANK(Instruction!A4), "", Instruction!A4) -> Instruction | B7: =IF(ISBLANK(Instruction!B4), "", Instruction!B4) -> SOCIAL SCIENCES | C7: =IF(ISBLANK(Instruction!C4), "", Instruction!C4) -> Janis Kea, Division Co-Chair and Nichola Gutierrez, Division Co-Chair | D7: =IF(ISBLANK(Instruction!D4), "", Instruction!D4) -> Anthropology | E7: =IF(ISBLANK(Instruction!E4), "", Instruction!E4) -> Andrew Kindon | F7: =IF(ISBLANK(Instruction!F4), "", Instruction!F4) -> Andrew.Kindon@westvalley.edu | G7: =IF(ISBLANK(Instruction!G4), "", Instruction!G4) -> 2554 | H7: =IF(ISBLANK(Instruction!H4), "", Instruction!H4) -> LA/SS 2 F | ... L7: =IF(ISBLANK(Instruction!L4), "", Instruction!L4)
A8: =IF(ISBLANK(Instruction!A5), "", Instruction!A5) -> Instruction | B8: =IF(ISBLANK(Instruction!B5), "", Instruction!B5) -> SCHOOL OF ART AND DESIGN | C8: =IF(ISBLANK(Instruction!C5), "", Instruction!C5) -> Diane Hurd, Division Chair and Robert Cornejo, Division Chair | D8: =IF(ISBLANK(Instruction!D5), "", Instruction!D5) -> Architecture | E8: =IF(ISBLANK(Instruction!E5), "", Instruction!E5) -> Soroush Ghahramani | F8: =IF(ISBLANK(Instruction!F5), "", Instruction!F5) -> Soroush.Ghahramani@westvalley.edu | G8: =IF(ISBLANK(Instruction!G5), "", Instruction!G5) -> 4097 | H8: =IF(ISBLANK(Instruction!H5), "", Instruction!H5) -> V-1 | ... L8: =IF(ISBLANK(Instruction!L5), "", Instruction!L5)
A9: =IF(ISBLANK(Instruction!A6), "", Instruction!A6) -> Instruction | B9: =IF(ISBLANK(Instruction!B6), "", Instruction!B6) -> SCHOOL OF ART AND DESIGN | C9: =IF(ISBLANK(Instruction!C6), "", Instruction!C6) -> Robert Cornejo, Division Chair | D9: =IF(ISBLANK(Instruction!D6), "", Instruction!D6) -> Art | E9: =IF(ISBLANK(Instruction!E6), "", Instruction!E6) -> Heidi Brueckner | F9: =IF(ISBLANK(Instruction!F6), "", Instruction!F6) -> Heidi.Brueckner@westvalley.edu | G9: =IF(ISBLANK(Instruction!G6), "", Instruction!G6) -> 2472 | H9: =IF(ISBLANK(Instruction!H6), "", Instruction!H6) -> ART 2 | ... L9: =IF(ISBLANK(Instruction!L6), "", Instruction!L6)
A10: =IF(ISBLANK('Non-Instruction'!A3), "", 'Non-Instruction'!A3) -> Non-Instructional | B10: =IF(ISBLANK('Non-Instruction'!B3), "", 'Non-Instruction'!B3) -> Student Services | C10: =IF(ISBLANK('Non-Instruction'!C3), "", 'Non-Instruction'!C3) -> Matais Pouncil, Dean | D10: =IF(ISBLANK('Non-Instruction'!D3), "", 'Non-Instruction'!D3) -> Assessment | E10: =IF(ISBLANK('Non-Instruction'!E3), "", 'Non-Instruction'!E3) -> LeAnn McGinley | F10: =IF(ISBLANK('Non-Instruction'!F3), "", 'Non-Instruction'!F3) -> LeAnn.McGinley@westvalley.edu | G10: =IF(ISBLANK('Non-Instruction'!G3), "", 'Non-Instruction'!G3) -> 2402 | H10: =IF(ISBLANK('Non-Instruction'!H3), "", 'Non-Instruction'!H3) -> Couns. Rm. 23 | ... L10: =IF(ISBLANK('Non-Instruction'!L3), "", 'Non-Instruction'!L3)
A11: =IF(ISBLANK(Instruction!A8), "", Instruction!A8) -> Instruction | B11: =IF(ISBLANK(Instruction!B8), "", Instruction!B8) -> SCIENCE AND MATH | C11: =IF(ISBLANK(Instruction!C8), "", Instruction!C8) -> Roberta Berlani, Division Chair | D11: =IF(ISBLANK(Instruction!D8), "", Instruction!D8) -> Biology | E11: =IF(ISBLANK(Instruction!E8), "", Instruction!E8) -> Leticia Gallardo | F11: =IF(ISBLANK(Instruction!F8), "", Instruction!F8) -> Leticia.Gallardo@westvalley.edu | G11: =IF(ISBLANK(Instruction!G8), "", Instruction!G8) | H11: =IF(ISBLANK(Instruction!H8), "", Instruction!H8) | ... L11: =IF(ISBLANK(Instruction!L8), "", Instruction!L8)
A12: =IF(ISBLANK(Instruction!A9), "", Instruction!A9) -> Instruction | B12: =IF(ISBLANK(Instruction!B9), "", Instruction!B9) -> PROFESSIONAL STUDIES | C12: =IF(ISBLANK(Instruction!C9), "", Instruction!C9) -> Jim Henderson, Division Chair | D12: =IF(ISBLANK(Instruction!D9), "", Instruction!D9) -> Business | E12: =IF(ISBLANK(Instruction!E9), "", Instruction!E9) -> Lance Shoemaker | F12: =IF(ISBLANK(Instruction!F9), "", Instruction!F9) -> Lance.Shoemaker@westvalley.edu | G12: =IF(ISBLANK(Instruction!G9), "", Instruction!G9) -> 2436 | H12: =IF(ISBLANK(Instruction!H9), "", Instruction!H9) -> BUS O | ... L12: =IF(ISBLANK(Instruction!L9), "", Instruction!L9)
A13: =IF(ISBLANK(Instruction!A10), "", Instruction!A10) -> Instruction | B13: =IF(ISBLANK(Instruction!B10), "", Instruction!B10) -> PROFESSIONAL STUDIES | C13: =IF(ISBLANK(Instruction!C10), "", Instruction!C10) -> Jim Henderson, Division Chair | D13: =IF(ISBLANK(Instruction!D10), "", Instruction!D10) -> CA | E13: =IF(ISBLANK(Instruction!E10), "", Instruction!E10) -> Karina Dundurs | F13: =IF(ISBLANK(Instruction!F10), "", Instruction!F10) -> Karina.Dundurs@westvalley.edu | G13: =IF(ISBLANK(Instruction!G10), "", Instruction!G10) -> 2414 | H13: =IF(ISBLANK(Instruction!H10), "", Instruction!H10) -> BUS B | ... L13: =IF(ISBLANK(Instruction!L10), "", Instruction!L10)
A14: =IF(ISBLANK('Non-Instruction'!A4), "", 'Non-Instruction'!A4) -> Non-Instructional | B14: =IF(ISBLANK('Non-Instruction'!B4), "", 'Non-Instruction'!B4) -> Career Education and Workforce Development | C14: =IF(ISBLANK('Non-Instruction'!C4), "", 'Non-Instruction'!C4) -> Brad Weisberg, Dean | D14: =IF(ISBLANK('Non-Instruction'!D4), "", 'Non-Instruction'!D4) -> CalWORKs | E14: =IF(ISBLANK('Non-Instruction'!E4), "", 'Non-Instruction'!E4) -> Mae Conroy | F14: =IF(ISBLANK('Non-Instruction'!F4), "", 'Non-Instruction'!F4) -> Mae_Conroy@westvalley.edu | G14: =IF(ISBLANK('Non-Instruction'!G4), "", 'Non-Instruction'!G4) | H14: =IF(ISBLANK('Non-Instruction'!H4), "", 'Non-Instruction'!H4) | ... L14: =IF(ISBLANK('Non-Instruction'!L4), "", 'Non-Instruction'!L4)
A15: =IF(ISBLANK(Administration!A16), "", Administration!A16) -> Administrative | B15: =IF(ISBLANK(Administration!B16), "", Administration!B16) -> Career Education and Workforce Development | C15: =IF(ISBLANK(Administration!C16), "", Administration!C16) -> Brad Weisberg | D15: =IF(ISBLANK(Administration!D16), "", Administration!D16) -> Career Education and Workforce Development | E15: =IF(ISBLANK(Administration!E16), "", Administration!E16) -> Brad Weisberg | F15: =IF(ISBLANK(Administration!F16), "", Administration!F16) -> Brad.Weisberg@westvalley.edu | G15: =IF(ISBLANK(Administration!G16), "", Administration!G16) -> 4084 | H15: =IF(ISBLANK(Administration!H16), "", Administration!H16) | ... L15: =IF(ISBLANK(Administration!L16), "", Administration!L16)
A16: =IF(ISBLANK(Administration!A6), "", Administration!A6) -> Administrative | B16: =IF(ISBLANK(Administration!B6), "", Administration!B6) -> Career Education and Workforce Development | C16: =IF(ISBLANK(Administration!C6), "", Administration!C6) -> Brad Weisberg | D16: =IF(ISBLANK(Administration!D6), "", Administration!D6) -> Career Programs Center | E16: =IF(ISBLANK(Administration!E6), "", Administration!E6) -> Brad Weisberg | F16: =IF(ISBLANK(Administration!F6), "", Administration!F6) -> Brad.Weisberg@westvalley.edu | G16: =IF(ISBLANK(Administration!G6), "", Administration!G6) | H16: =IF(ISBLANK(Administration!H6), "", Administration!H6) | ... L16: =IF(ISBLANK(Administration!L6), "", Administration!L6)
A17: =IF(ISBLANK(Instruction!A11), "", Instruction!A11) -> Instruction | B17: =IF(ISBLANK(Instruction!B11), "", Instruction!B11) -> SCIENCE AND MATH | C17: =IF(ISBLANK(Instruction!C11), "", Instruction!C11) -> Roberta Berlani, Division Chair | D17: =IF(ISBLANK(Instruction!D11), "", Instruction!D11) -> Chemistry | E17: =IF(ISBLANK(Instruction!E11), "", Instruction!E11) -> Blaine Harrison | F17: =IF(ISBLANK(Instruction!F11), "", Instruction!F11) -> Blaine.Harrison@westvalley.edu | G17: =IF(ISBLANK(Instruction!G11), "", Instruction!G11) -> 4017 | H17: =IF(ISBLANK(Instruction!H11), "", Instruction!H11) -> SM 19 A | ... L17: =IF(ISBLANK(Instruction!L11), "", Instruction!L11)
A18: =IF(ISBLANK(Administration!A7), "", Administration!A7) -> Administrative | B18: =IF(ISBLANK(Administration!B7), "", Administration!B7) -> Career Education and Workforce Development | C18: =IF(ISBLANK(Administration!C7), "", Administration!C7) -> Brad Weisberg | D18: =IF(ISBLANK(Administration!D7), "", Administration!D7) -> Child Development Center | E18: =IF(ISBLANK(Administration!E7), "", Administration!E7) -> Anne Horgan | F18: =IF(ISBLANK(Administration!F7), "", Administration!F7) -> Anne.Horgan@westvalley.edu | G18: =IF(ISBLANK(Administration!G7), "", Administration!G7) -> 2152 | H18: =IF(ISBLANK(Administration!H7), "", Administration!H7) -> Child Dev. Center | ... L18: =IF(ISBLANK(Administration!L7), "", Administration!L7)
A19: =IF(ISBLANK(Instruction!A12), "", Instruction!A12) -> Instruction | B19: =IF(ISBLANK(Instruction!B12), "", Instruction!B12) -> PROFESSIONAL STUDIES | C19: =IF(ISBLANK(Instruction!C12), "", Instruction!C12) -> Jim Henderson, Division Chair | D19: =IF(ISBLANK(Instruction!D12), "", Instruction!D12) -> Child Studies | E19: =IF(ISBLANK(Instruction!E12), "", Instruction!E12) -> Katherine Moore-Wines | F19: =IF(ISBLANK(Instruction!F12), "", Instruction!F12) -> Katherine.Moore-Wines@westvalley.edu | G19: =IF(ISBLANK(Instruction!G12), "", Instruction!G12) -> 4601 | H19: =IF(ISBLANK(Instruction!H12), "", Instruction!H12) -> V-26 | ... L19: =IF(ISBLANK(Instruction!L12), "", Instruction!L12)
A20: =IF(ISBLANK(Instruction!A13), "", Instruction!A13) -> Instruction | B20: =IF(ISBLANK(Instruction!B13), "", Instruction!B13) -> PROFESSIONAL STUDIES | C20: =IF(ISBLANK(Instruction!C13), "", Instruction!C13) -> Jim Henderson, Division Chair | D20: =IF(ISBLANK(Instruction!D13), "", Instruction!D13) -> CIS | E20: =IF(ISBLANK(Instruction!E13), "", Instruction!E13) -> Fred George | F20: =IF(ISBLANK(Instruction!F13), "", Instruction!F13) -> Fred.George@westvalley.edu | G20: =IF(ISBLANK(Instruction!G13), "", Instruction!G13) -> 2428 | H20: =IF(ISBLANK(Instruction!H13), "", Instruction!H13) -> BUS M | ... L20: =IF(ISBLANK(Instruction!L13), "", Instruction!L13)
A21: =IF(ISBLANK(Administration!A3), "", Administration!A3) -> Administrative | B21: =IF(ISBLANK(Administration!B3), "", Administration!B3) -> Administrative Services | C21: =IF(ISBLANK(Administration!C3), "", Administration!C3) -> Pat Fenton | D21: =IF(ISBLANK(Administration!D3), "", Administration!D3) -> College Webmaster | E21: =IF(ISBLANK(Administration!E3), "", Administration!E3) -> Daniel Niemann | F21: =IF(ISBLANK(Administration!F3), "", Administration!F3) -> Daniel.Niemann@westvalley.edu | G21: =IF(ISBLANK(Administration!G3), "", Administration!G3) -> 2578 | H21: =IF(ISBLANK(Administration!H3), "", Administration!H3) -> ILC/ DAS office | ... L21: =IF(ISBLANK(Administration!L3), "", Administration!L3)
A22: =IF(ISBLANK(Instruction!A14), "", Instruction!A14) -> Instruction | B22: =IF(ISBLANK(Instruction!B14), "", Instruction!B14) -> LANGUAGE ARTS | C22: =IF(ISBLANK(Instruction!C14), "", Instruction!C14) -> Leigh Burrill, Division Chair | D22: =IF(ISBLANK(Instruction!D14), "", Instruction!D14) -> Communication Studies | E22: =IF(ISBLANK(Instruction!E14), "", Instruction!E14) -> John Hannigan | F22: =IF(ISBLANK(Instruction!F14), "", Instruction!F14) -> John.Hannigan@westvalley.edu | G22: =IF(ISBLANK(Instruction!G14), "", Instruction!G14) -> 2629 | H22: =IF(ISBLANK(Instruction!H14), "", Instruction!H14) -> LA/SS 3 C | ... L22: =IF(ISBLANK(Instruction!L14), "", Instruction!L14)
A23: =IF(ISBLANK(Administration!A8), "", Administration!A8) -> Administrative | B23: =IF(ISBLANK(Administration!B8), "", Administration!B8) -> Career Education and Workforce Development | C23: =IF(ISBLANK(Administration!C8), "", Administration!C8) -> Brad Weisberg | D23: =IF(ISBLANK(Administration!D8), "", Administration!D8) -> Community Education | E23: =IF(ISBLANK(Administration!E8), "", Administration!E8) -> David Esmaili | F23: =IF(ISBLANK(Administration!F8), "", Administration!F8) -> David.Esmaili@westvalley.edu | G23: =IF(ISBLANK(Administration!G8), "", Administration!G8) -> 4693 | H23: =IF(ISBLANK(Administration!H8), "", Administration!H8) -> Gerlani House | ... L23: =IF(ISBLANK(Administration!L8), "", Administration!L8)
A24: =IF(ISBLANK(Administration!A9), "", Administration!A9) -> Administrative | B24: =IF(ISBLANK(Administration!B9), "", Administration!B9) -> Career Education and Workforce Development | C24: =IF(ISBLANK(Administration!C9), "", Administration!C9) -> Brad Weisberg | D24: =IF(ISBLANK(Administration!D9), "", Administration!D9) -> Contract Education | E24: =IF(ISBLANK(Administration!E9), "", Administration!E9) -> Mae Conroy | F24: =IF(ISBLANK(Administration!F9), "", Administration!F9) -> Mae.Conroy@westvalley.edu | G24: =IF(ISBLANK(Administration!G9), "", Administration!G9) | H24: =IF(ISBLANK(Administration!H9), "", Administration!H9) | ... L24: =IF(ISBLANK(Administration!L9), "", Administration!L9)
A25: =IF(ISBLANK(Instruction!A15), "", Instruction!A15) -> Instruction | B25: =IF(ISBLANK(Instruction!B15), "", Instruction!B15) -> COUNSELING | C25: =IF(ISBLANK(Instruction!C15), "", Instruction!C15) -> Matais Pouncil, Dean | D25: =IF(ISBLANK(Instruction!D15), "", Instruction!D15) -> Counseling | E25: =IF(ISBLANK(Instruction!E15), "", Instruction!E15) -> Carol Pavan | F25: =IF(ISBLANK(Instruction!F15), "", Instruction!F15) -> Carol.Pavan@westvalley.edu | G25: =IF(ISBLANK(Instruction!G15), "", Instruction!G15) -> 2411 | H25: =IF(ISBLANK(Instruction!H15), "", Instruction!H15) -> Couns. | ... L25: =IF(ISBLANK(Instruction!L15), "", Instruction!L15)
A26: =IF(ISBLANK('Non-Instruction'!A5), "", 'Non-Instruction'!A5) -> Non-Instructional | B26: =IF(ISBLANK('Non-Instruction'!B5), "", 'Non-Instruction'!B5) -> Student Services | C26: =IF(ISBLANK('Non-Instruction'!C5), "", 'Non-Instruction'!C5) -> Matais Pouncil, Dean | D26: =IF(ISBLANK('Non-Instruction'!D5), "", 'Non-Instruction'!D5) -> Counseling Services | E26: =IF(ISBLANK('Non-Instruction'!E5), "", 'Non-Instruction'!E5) -> Carol Pavan | F26: ='Non-Instruction'!F5 -> Carol.Pavan@westvalley.edu | G26: =IF(ISBLANK('Non-Instruction'!G5), "", 'Non-Instruction'!G5) -> 2411 | H26: =IF(ISBLANK('Non-Instruction'!H5), "", 'Non-Instruction'!H5) -> Couns Rm. 8 | I26: =IF(ISBLANK('Non-Instruction'!I5), "", 'Non-Instruction'!I5) | J26: =IF(ISBLANK('Non-Instruction'!J5), "", 'Non-Instruction'!J5) | K26: =IF(ISBLANK('Non-Instruction'!K5), "", 'Non-Instruction'!K5) | L26: =IF(ISBLANK('Non-Instruction'!L5), "", 'Non-Instruction'!L5)
A27: =IF(ISBLANK(Instruction!A16), "", Instruction!A16) -> Instruction | B27: =IF(ISBLANK(Instruction!B16), "", Instruction!B16) -> PROFESSIONAL STUDIES | C27: =IF(ISBLANK(Instruction!C16), "", Instruction!C16) -> Jim Henderson, Division Chair | D27: =IF(ISBLANK(Instruction!D16), "", Instruction!D16) -> CTR | E27: =IF(ISBLANK(Instruction!E16), "", Instruction!E16) -> Margaret Ortiz | F27: =IF(ISBLANK(Instruction!F16), "", Instruction!F16) -> Margaret.Ortiz@westvalley.edu | G27: =IF(ISBLANK(Instruction!G16), "", Instruction!G16) -> 2559 | H27: =IF(ISBLANK(Instruction!H16), "", Instruction!H16) -> BUS F | ... L27: =IF(ISBLANK(Instruction!L16), "", Instruction!L16)
A28: =IF(ISBLANK(Instruction!A17), "", Instruction!A17) -> Instruction | B28: =IF(ISBLANK(Instruction!B17), "", Instruction!B17) -> DESP | C28: =IF(ISBLANK(Instruction!C17), "", Instruction!C17) -> Matais Pouncil, Dean | D28: =IF(ISBLANK(Instruction!D17), "", Instruction!D17) -> DESP/Learning Services | E28: =IF(ISBLANK(Instruction!E17), "", Instruction!E17) -> Cheryl Miller | F28: =IF(ISBLANK(Instruction!F17), "", Instruction!F17) -> Cheryl.Miller@westvalley.edu | G28: =IF(ISBLANK(Instruction!G17), "", Instruction!G17) -> 2620 | H28: =IF(ISBLANK(Instruction!H17), "", Instruction!H17) -> LS: DESP | ... L28: =IF(ISBLANK(Instruction!L17), "", Instruction!L17)
A29: =IF(ISBLANK(Instruction!A18), "", Instruction!A18) -> Instruction | B29: =IF(ISBLANK(Instruction!B18), "", Instruction!B18) -> SCHOOL OF ART AND DESIGN | C29: =IF(ISBLANK(Instruction!C18), "", Instruction!C18) -> Diane Hurd, Division Chair | D29: =IF(ISBLANK(Instruction!D18), "", Instruction!D18) -> Digital Media | E29: =IF(ISBLANK(Instruction!E18), "", Instruction!E18) -> Jeff Rascov | F29: =IF(ISBLANK(Instruction!F18), "", Instruction!F18) -> Jeff.Rascov@westvalley.edu | G29: =IF(ISBLANK(Instruction!G18), "", Instruction!G18) -> 2432 | H29: =IF(ISBLANK(Instruction!H18), "", Instruction!H18) | ... L29: =IF(ISBLANK(Instruction!L18), "", Instruction!L18) -> 4.1
A30: =IF(ISBLANK('Non-Instruction'!A6), "", 'Non-Instruction'!A6) -> Non-Instructional | B30: =IF(ISBLANK('Non-Instruction'!B6), "", 'Non-Instruction'!B6) -> Student Services | C30: =IF(ISBLANK('Non-Instruction'!C6), "", 'Non-Instruction'!C6) -> Matais Pouncil, Dean | D30: =IF(ISBLANK('Non-Instruction'!D6), "", 'Non-Instruction'!D6) -> Disability & Educational Support Program (DESP) | E30: =IF(ISBLANK('Non-Instruction'!E6), "", 'Non-Instruction'!E6) -> Cheryl Miller | F30: =IF(ISBLANK('Non-Instruction'!F6), "", 'Non-Instruction'!F6) -> Cheryl_Miller@westvalley.edu | G30: =IF(ISBLANK('Non-Instruction'!G6), "", 'Non-Instruction'!G6) -> 2620 | H30: =IF(ISBLANK('Non-Instruction'!H6), "", 'Non-Instruction'!H6) -> LS: DESP | ... L30: =IF(ISBLANK('Non-Instruction'!L6), "", 'Non-Instruction'!L6)
A31: =IF(ISBLANK(Administration!A11), "", Administration!A11) -> Administrative | B31: =IF(ISBLANK(Administration!B11), "", Administration!B11) -> Office of Instruction | C31: =IF(ISBLANK(Administration!C11), "", Administration!C11) -> Kuni Hay | D31: =IF(ISBLANK(Administration!D11), "", Administration!D11) -> Distance Learning | E31: =IF(ISBLANK(Administration!E11), "", Administration!E11) -> Lisa Kaaz | F31: =IF(ISBLANK(Administration!F11), "", Administration!F11) -> Lisa.Kaaz@westvalley.edu | G31: =IF(ISBLANK(Administration!G11), "", Administration!G11) | H31: =IF(ISBLANK(Administration!H11), "", Administration!H11) | ... L31: =IF(ISBLANK(Administration!L11), "", Administration!L11)
A32: =IF(ISBLANK(Instruction!A19), "", Instruction!A19) -> Instruction | B32: =IF(ISBLANK(Instruction!B19), "", Instruction!B19) -> SOCIAL SCIENCES | C32: =IF(ISBLANK(Instruction!C19), "", Instruction!C19) -> Janis Kea, Division Co-Chair and Nichola Gutierrez, Division Co-Chair | D32: =IF(ISBLANK(Instruction!D19), "", Instruction!D19) -> Economics | E32: =IF(ISBLANK(Instruction!E19), "", Instruction!E19) -> Janis Kea | F32: =IF(ISBLANK(Instruction!F19), "", Instruction!F19) -> Janis.Kea@westvalley.edu | G32: =IF(ISBLANK(Instruction!G19), "", Instruction!G19) -> 2538 | H32: =IF(ISBLANK(Instruction!H19), "", Instruction!H19) -> LA/SS 2 E | ... L32: =IF(ISBLANK(Instruction!L19), "", Instruction!L19)
A33: =IF(ISBLANK(Instruction!A20), "", Instruction!A20) -> Instruction | B33: =IF(ISBLANK(Instruction!B20), "", Instruction!B20) -> PROFESSIONAL STUDIES | C33: =IF(ISBLANK(Instruction!C20), "", Instruction!C20) -> Jim Henderson, Division Chair | D33: =IF(ISBLANK(Instruction!D20), "", Instruction!D20) -> Engineering | E33: =IF(ISBLANK(Instruction!E20), "", Instruction!E20) -> Tom Sanford | F33: =IF(ISBLANK(Instruction!F20), "", Instruction!F20) -> Tom.Sanford@westvalley.edu | G33: =IF(ISBLANK(Instruction!G20), "", Instruction!G20) -> 4608 | H33: =IF(ISBLANK(Instruction!H20), "", Instruction!H20) -> V-1 | ... L33: =IF(ISBLANK(Instruction!L20), "", Instruction!L20)
A34: =IF(ISBLANK(Instruction!A21), "", Instruction!A21) -> Instruction | B34: =IF(ISBLANK(Instruction!B21), "", Instruction!B21) -> LANGUAGE ARTS | C34: =IF(ISBLANK(Instruction!C21), "", Instruction!C21) -> Leigh Burrill, Division Chair | D34: =IF(ISBLANK(Instruction!D21), "", Instruction!D21) -> English | E34: =IF(ISBLANK(Instruction!E21), "", Instruction!E21) -> Leslie Saito-Liu | F34: =IF(ISBLANK(Instruction!F21), "", Instruction!F21) -> Leslie.Saito@westvalley.edu | G34: =IF(ISBLANK(Instruction!G21), "", Instruction!G21) -> 4010 | H34: =IF(ISBLANK(Instruction!H21), "", Instruction!H21) -> LA/SS 4 B | ... L34: =IF(ISBLANK(Instruction!L21), "", Instruction!L21)
A35: =IF(ISBLANK(Instruction!A22), "", Instruction!A22) -> Instruction | B35: =IF(ISBLANK(Instruction!B22), "", Instruction!B22) -> LANGUAGE ARTS | C35: =IF(ISBLANK(Instruction!C22), "", Instruction!C22) -> Leigh Burrill, Division Chair | D35: =IF(ISBLANK(Instruction!D22), "", Instruction!D22) -> ESL | E35: =IF(ISBLANK(Instruction!E22), "", Instruction!E22) -> Ann Marie Wasserbauer | F35: =IF(ISBLANK(Instruction!F22), "", Instruction!F22) -> AnnMarie.Wasserbauer@westvalley.edu | G35: =IF(ISBLANK(Instruction!G22), "", Instruction!G22) -> 2486 | H35: =IF(ISBLANK(Instruction!H22), "", Instruction!H22) -> LA/SS 4 D | ... L35: =IF(ISBLANK(Instruction!L22), "", Instruction!L22)
A36: =IF(ISBLANK('Non-Instruction'!A7), "", 'Non-Instruction'!A7) -> Non-Instructional | B36: =IF(ISBLANK('Non-Instruction'!B7), "", 'Non-Instruction'!B7) -> Student Services | C36: =IF(ISBLANK('Non-Instruction'!C7), "", 'Non-Instruction'!C7) -> Victoria Hindes, VP | D36: =IF(ISBLANK('Non-Instruction'!D7), "", 'Non-Instruction'!D7) -> Extended Opportunity Programs and Services (EOPS) | E36: =IF(ISBLANK('Non-Instruction'!E7), "", 'Non-Instruction'!E7) -> Virginia Marquez | F36: =IF(ISBLANK('Non-Instruction'!F7), "", 'Non-Instruction'!F7) -> Virginia.Marquez@westvalley.edu | G36: =IF(ISBLANK('Non-Instruction'!G7), "", 'Non-Instruction'!G7) -> 2023 | H36: =IF(ISBLANK('Non-Instruction'!H7), "", 'Non-Instruction'!H7) -> EOPS | ... L36: =IF(ISBLANK('Non-Instruction'!L7), "", 'Non-Instruction'!L7)
A37: =IF(ISBLANK(Instruction!A23), "", Instruction!A23) -> Instruction | B37: =IF(ISBLANK(Instruction!B23), "", Instruction!B23) -> SCHOOL OF ART AND DESIGN | C37: =IF(ISBLANK(Instruction!C23), "", Instruction!C23) -> Diane Hurd, Division Chair | D37: =IF(ISBLANK(Instruction!D23), "", Instruction!D23) -> Fashion Design (Budget) | E37: =IF(ISBLANK(Instruction!E23), "", Instruction!E23) -> Tinna Keller | F37: =IF(ISBLANK(Instruction!F23), "", Instruction!F23) -> Tiina.Keller@westvalley.edu | G37: =IF(ISBLANK(Instruction!G23), "", Instruction!G23) | H37: =IF(ISBLANK(Instruction!H23), "", Instruction!H23) -> Sally Aitken | ... L37: =IF(ISBLANK(Instruction!L23), "", Instruction!L23)
A38: =IF(ISBLANK(Instruction!A24), "", Instruction!A24) -> Instruction | B38: =IF(ISBLANK(Instruction!B24), "", Instruction!B24) -> SCHOOL OF ART AND DESIGN | C38: =IF(ISBLANK(Instruction!C24), "", Instruction!C24) -> Diane Hurd, Division Chair | D38: =IF(ISBLANK(Instruction!D24), "", Instruction!D24) -> Fashion Design (Self-Study) | E38: =IF(ISBLANK(Instruction!E24), "", Instruction!E24) -> Sally Aitken | F38: =IF(ISBLANK(Instruction!F24), "", Instruction!F24) -> Sally.Aitken@westvalley.edu | G38: =IF(ISBLANK(Instruction!G24), "", Instruction!G24) -> 2003 | H38: =IF(ISBLANK(Instruction!H24), "", Instruction!H24) -> Tinna Keller | ... L38: =IF(ISBLANK(Instruction!L24), "", Instruction!L24)
A39: =IF(ISBLANK('Non-Instruction'!A8), "", 'Non-Instruction'!A8) -> Non-Instructional | B39: =IF(ISBLANK('Non-Instruction'!B8), "", 'Non-Instruction'!B8) -> Student Services | C39: =IF(ISBLANK('Non-Instruction'!C8), "", 'Non-Instruction'!C8) -> Victoria Hindes, VP | D39: =IF(ISBLANK('Non-Instruction'!D8), "", 'Non-Instruction'!D8) -> Financial Aid | E39: =IF(ISBLANK('Non-Instruction'!E8), "", 'Non-Instruction'!E8) -> Maritza Cantarero | F39: =IF(ISBLANK('Non-Instruction'!F8), "", 'Non-Instruction'!F8) -> Maritza.Cantarero@westvalley.edu | G39: =IF(ISBLANK('Non-Instruction'!G8), "", 'Non-Instruction'!G8) | H39: =IF(ISBLANK('Non-Instruction'!H8), "", 'Non-Instruction'!H8) | ... L39: =IF(ISBLANK('Non-Instruction'!L8), "", 'Non-Instruction'!L8)
A40: =IF(ISBLANK('Non-Instruction'!A9), "", 'Non-Instruction'!A9) -> Non-Instructional | B40: =IF(ISBLANK('Non-Instruction'!B9), "", 'Non-Instruction'!B9) -> Student Services | C40: =IF(ISBLANK('Non-Instruction'!C9), "", 'Non-Instruction'!C9) -> Matais Pouncil, Dean | D40: =IF(ISBLANK('Non-Instruction'!D9), "", 'Non-Instruction'!D9) -> First Year Experience (FYE) | E40: =IF(ISBLANK('Non-Instruction'!E9), "", 'Non-Instruction'!E9) -> Gretchen Ehlers | F40: =IF(ISBLANK('Non-Instruction'!F9), "", 'Non-Instruction'!F9) -> gretchen.ehlers@westvalley.edu | G40: =IF(ISBLANK('Non-Instruction'!G9), "", 'Non-Instruction'!G9) -> 2054 | H40: =IF(ISBLANK('Non-Instruction'!H9), "", 'Non-Instruction'!H9) -> SM 4K | ... L40: =IF(ISBLANK('Non-Instruction'!L9), "", 'Non-Instruction'!L9)
...

Sheet Instruction
A1: Category | B1: Division/Area | C1: Administrator | D1: Program | E1: Primary Contact/Chair | F1: Email | G1: Ext | H1: Office | I1: Secondary Contact | J1: Email | K1: Ext | L1: Office
A2: Instruction | B2: PROFESSIONAL STUDIES | C2: =Administrators!$C$4 -> Jim Henderson, Division Chair | D2: Accounting | E2: Randy Castello | F2: Randy.Castello@westvalley.edu | G2: 2427 | H2: BUS J
A3: Instruction | B3: PROFESSIONAL STUDIES | C3: =Administrators!$C$4 -> Jim Henderson, Division Chair | D3: Administration of Justice | E3: Renee Paquier | F3: Renee.Paquier@westvalley.edu | G3: 2180 | H3: AJ 3A
A4: Instruction | B4: SOCIAL SCIENCES | C4: =CONCATENATE(Administrators!$C$9, " and ", Administrators!$C$8) -> Janis Kea, Division Co-Chair and Nichola Gutierrez, Division Co-Chair | D4: Anthropology | E4: Andrew Kindon | F4: Andrew.Kindon@westvalley.edu | G4: 2554 | H4: LA/SS 2 F
A5: Instruction | B5: SCHOOL OF ART AND DESIGN | C5: =CONCATENATE(Administrators!$C$2," and ", Administrators!$C$3) -> Diane Hurd, Division Chair and Robert Cornejo, Division Chair | D5: Architecture | E5: Soroush Ghahramani | F5: Soroush.Ghahramani@westvalley.edu | G5: 4097 | H5: V-1
A6: Instruction | B6: SCHOOL OF ART AND DESIGN | C6: =Administrators!$C$3 -> Robert Cornejo, Division Chair | D6: Art | E6: Heidi Brueckner | F6: Heidi.Brueckner@westvalley.edu | G6: 2472 | H6: ART 2
A7: Instruction | B7: HEALTH AND HUMAN DEVELOPMENT | C7: =Administrators!$C$6 -> Diane Rudy, Division Chair | D7: Athletics | E7: Heidi Davis | F7: Heidi.Davis@westvalley.edu | G7: 2522 | H7: PE 1 W
A8: Instruction | B8: SCIENCE AND MATH | C8: =Administrators!$C$7 -> Roberta Berlani, Division Chair | D8: Biology | E8: Leticia Gallardo | F8: Leticia.Gallardo@westvalley.edu
A9: Instruction | B9: PROFESSIONAL STUDIES | C9: =Administrators!$C$4 -> Jim Henderson, Division Chair | D9: Business | E9: Lance Shoemaker | F9: Lance.Shoemaker@westvalley.edu | G9: 2436 | H9: BUS O
A10: Instruction | B10: PROFESSIONAL STUDIES | C10: =Administrators!$C$4 -> Jim Henderson, Division Chair | D10: CA | E10: Karina Dundurs | F10: Karina.Dundurs@westvalley.edu | G10: 2414 | H10: BUS B
A11: Instruction | B11: SCIENCE AND MATH | C11: =Administrators!$C$7 -> Roberta Berlani, Division Chair | D11: Chemistry | E11: Blaine Harrison | F11: Blaine.Harrison@westvalley.edu | G11: 4017 | H11: SM 19 A
A12: Instruction | B12: PROFESSIONAL STUDIES | C12: =Administrators!$C$4 -> Jim Henderson, Division Chair | D12: Child Studies | E12: Katherine Moore-Wines | F12: Katherine.Moore-Wines@westvalley.edu | G12: 4601 | H12: V-26
A13: Instruction | B13: PROFESSIONAL STUDIES | C13: =Administrators!$C$4 -> Jim Henderson, Division Chair | D13: CIS | E13: Fred George | F13: Fred.George@westvalley.edu | G13: 2428 | H13: BUS M
A14: Instruction | B14: LANGUAGE ARTS | C14: =Administrators!$C$5 -> Leigh Burrill, Division Chair | D14: Communication Studies | E14: John Hannigan | F14: John.Hannigan@westvalley.edu | G14: 2629 | H14: LA/SS 3 C
A15: Instruction | B15: COUNSELING | C15: =Administrators!$C$16 -> Matais Pouncil, Dean | D15: Counseling | E15: Carol Pavan | F15: Carol.Pavan@westvalley.edu | G15: 2411 | H15: Couns.
A16: Instruction | B16: PROFESSIONAL STUDIES | C16: =Administrators!$C$4 -> Jim Henderson, Division Chair | D16: CTR | E16: Margaret Ortiz | F16: Margaret.Ortiz@westvalley.edu | G16: 2559 | H16: BUS F
A17: Instruction | B17: DESP | C17: =Administrators!$C$16 -> Matais Pouncil, Dean | D17: DESP/Learning Services | E17: Cheryl Miller | F17: Cheryl.Miller@westvalley.edu | G17: 2620 | H17: LS: DESP
A18: Instruction | B18: SCHOOL OF ART AND DESIGN | C18: =Administrators!$C$2 -> Diane Hurd, Division Chair | D18: Digital Media | E18: Jeff Rascov | F18: Jeff.Rascov@westvalley.edu | G18: 2432 | I18: Jean McIntosh | J18: Jean.McIntosh@westvalley.edu | K18: 2435 | L18: 4.1
A19: Instruction | B19: SOCIAL SCIENCES | C19: =CONCATENATE(Administrators!$C$9, " and ", Administrators!$C$8) -> Janis Kea, Division Co-Chair and Nichola Gutierrez, Division Co-Chair | D19: Economics | E19: Janis Kea | F19: Janis.Kea@westvalley.edu | G19: 2538 | H19: LA/SS 2 E
A20: Instruction | B20: PROFESSIONAL STUDIES | C20: =Administrators!$C$4 -> Jim Henderson, Division Chair | D20: Engineering | E20: Tom Sanford | F20: Tom.Sanford@westvalley.edu | G20: 4608 | H20: V-1
A21: Instruction | B21: LANGUAGE ARTS | C21: =Administrators!$C$5 -> Leigh Burrill, Division Chair | D21: English | E21: Leslie Saito-Liu | F21: Leslie.Saito@westvalley.edu | G21: 4010 | H21: LA/SS 4 B
A22: Instruction | B22: LANGUAGE ARTS | C22: =Administrators!$C$5 -> Leigh Burrill, Division Chair | D22: ESL | E22: Ann Marie Wasserbauer | F22: AnnMarie.Wasserbauer@westvalley.edu | G22: 2486 | H22: LA/SS 4 D
A23: Instruction | B23: SCHOOL OF ART AND DESIGN | C23: =Administrators!$C$2 -> Diane Hurd, Division Chair | D23: Fashion Design (Budget) | E23: Tinna Keller | F23: Tiina.Keller@westvalley.edu | H23: Sally Aitken | I23: Sally.Aitken@westvalley.edu
A24: Instruction | B24: SCHOOL OF ART AND DESIGN | C24: =Administrators!$C$2 -> Diane Hurd, Division Chair | D24: Fashion Design (Self-Study) | E24: Sally Aitken | F24: Sally.Aitken@westvalley.edu | G24: 2003 | H24: Tinna Keller | I24: Tiina.Keller@westvalley.edu
A25: Instruction | B25: SOCIAL SCIENCES | C25: =CONCATENATE(Administrators!$C$9, " and ", Administrators!$C$8) -> Janis Kea, Division Co-Chair and Nichola Gutierrez, Division Co-Chair | D25: Geography | E25: Joe Hasty | F25: Joseph.Hasty@westvalley.edu | G25: 2521 | H25: LA/SS 2 G
A26: Instruction | B26: HEALTH AND HUMAN DEVELOPMENT | C26: =Administrators!$C$6 -> Diane Rudy, Division Chair | D26: Health Care Technologies | E26: Kris Gaiero | F26: Kris.Gaiero@westvalley.edu | G26: 4019 | H26: V-4
A27: Instruction | B27: HEALTH AND HUMAN DEVELOPMENT | C27: =Administrators!$C$6 -> Diane Rudy, Division Chair | D27: Health Education (under Kinesiology) | E27: Patricia Louderback | F27: Patricia.Louderback@westvalley.edu
A28: Instruction | B28: SOCIAL SCIENCES | C28: =CONCATENATE(Administrators!$C$9, " and ", Administrators!$C$8) -> Janis Kea, Division Co-Chair and Nichola Gutierrez, Division Co-Chair | D28: History | E28: Steve Juarez | F28: Steve.Juarez@westvalley.edu | G28: 2556 | H28: LA/SS 2 C
A29: Instruction | B29: SCHOOL OF ART AND DESIGN | C29: =Administrators!$C$2 -> Diane Hurd, Division Chair | D29: Interior Design | E29: Christopher Wright | F29: Christopher.Wright@westvalley.edu | G29: 2049 | H29: V-1
A30: Instruction | B30: HEALTH AND HUMAN DEVELOPMENT | C30: =Administrators!$C$6 -> Diane Rudy, Division Chair | D30: Kinesiology (Kinesiology, Health Education, Athletics, and Nutrition Science) | E30: Heidi Davis | F30: Heidi.Davis@westvalley.edu | G30: 2522 | H30: PE 1 W
A31: Instruction | B31: LIBRARY | C31: ='Non-Instruction'!$C$13 -> Stephanie Kashima, Dean | D31: LIBRARY | E31: Maryanne Mills | F31: Maryanne.Mills@westvalley.edu | G31: 4661 | H31: Library
A32: Instruction | B32: SCIENCE AND MATH | C32: =Administrators!$C$7 -> Roberta Berlani, Division Chair | D32: Math | E32: Chris Dyer | F32: Chris.Dyer@westvalley.edu | G32: 4675 | H32: SM 4C
A33: Instruction | B33: SCHOOL OF ART AND DESIGN | C33: =Administrators!$C$3 -> Robert Cornejo, Division Chair | D33: Music | E33: Gus Kambeitz | F33: Gus.Kambeitz@westvalley.edu | G33: 2460 | H33: MU-3
A34: Instruction | B34: HEALTH AND HUMAN DEVELOPMENT | C34: =Administrators!$C$6 -> Diane Rudy, Division Chair | D34: Nutrition Science (under Kinesiology) | E34: Heidi Davis | F34: Heidi.Davis@westvalley.edu | G34: 2522 | H34: PE 1 W
A35: Instruction | B35: PROFESSIONAL STUDIES | C35: =Administrators!$C$4 -> Jim Henderson, Division Chair | D35: Paralegal | E35: Stacy Hopkins | F35: Stacy.Hopkins@westvalley.edu | G35: 2445 | H35: V-1
A36: Instruction | B36: PROFESSIONAL STUDIES | C36: =Administrators!$C$4 -> Jim Henderson, Division Chair | D36: Park Management | E36: Chris Cruz | F36: Chris.Cruz@wvm.edu | G36: 2622 | H36: V-1
A37: Instruction | B37: SOCIAL SCIENCES | C37: =CONCATENATE(Administrators!$C$9, " and ", Administrators!$C$8) -> Janis Kea, Division Co-Chair and Nichola Gutierrez, Division Co-Chair | D37: Philosophy | E37: Barbara Upton | F37: Barbara.Upton@westvalley.edu | G37: 2458 | H37: AL 7
A38: Instruction | B38: SCHOOL OF ART AND DESIGN | C38: =Administrators!$C$3 -> Robert Cornejo, Division Chair | D38: Photography | E38: Brian Tramontana | F38: Brian.Tramontana@westvalley.edu | G38: 2547 | H38: LA/SS 1 A
A39: Instruction | B39: SCIENCE AND MATH | C39: =Administrators!$C$7 -> Roberta Berlani, Division Chair | D39: Physical Sciences | E39: Benjamin Mendelsohn | F39: Benjamin.Mendelsohn@westvalley.edu | G39: 4018 | H39: SM
A40: Instruction | B40: SOCIAL SCIENCES | C40: =CONCATENATE(Administrators!$C$9, " and ", Administrators!$C$8) -> Janis Kea, Division Co-Chair and Nichola Gutierrez, Division Co-Chair | D40: Political Science & Humanities | E40: Nichola Gutierrez | F40: Nichola.Gutierrez@westvalley.edu | G40: 2557 | H40: LA/SS 1 D
...

Sheet Non-Instruction
A1: Category | B1: Division/Area | C1: Administrator/Chair | D1: Department/Program | E1: Primary Contact | F1: Email | G1: Ext | H1: Office | I1: Secondary Contact | J1: Email | K1: Ext | L1: Office
A2: Non-Instructional | B2: Student Services | C2: =Administrators!$C$12 -> Victoria Hindes, VP | D2: Admissions/Records | E2: Maritza Cantarero | F2: Maritza.Cantarero@westvalley.edu
A3: Non-Instructional | B3: Student Services | C3: =Administrators!$C$16 -> Matais Pouncil, Dean | D3: Assessment | E3: LeAnn McGinley | F3: LeAnn.McGinley@westvalley.edu | G3: 2402 | H3: Couns. Rm. 23
A4: Non-Instructional | B4: Career Education and Workforce Development | C4: =Administrators!$C$15 -> Brad Weisberg, Dean | D4: CalWORKs | E4: Mae Conroy | F4: Mae_Conroy@westvalley.edu
A5: Non-Instructional | B5: Student Services | C5: =Administrators!$C$16 -> Matais Pouncil, Dean | D5: Counseling Services | E5: Carol Pavan | F5: Carol.Pavan@westvalley.edu | G5: 2411 | H5: Couns Rm. 8
A6: Non-Instructional | B6: Student Services | C6: =Administrators!$C$16 -> Matais Pouncil, Dean | D6: Disability & Educational Support Program (DESP) | E6: Cheryl Miller | F6: Cheryl_Miller@westvalley.edu | G6: 2620 | H6: LS: DESP
A7: Non-Instructional | B7: Student Services | C7: =Administrators!$C$12 -> Victoria Hindes, VP | D7: Extended Opportunity Programs and Services (EOPS) | E7: Virginia Marquez | F7: Virginia.Marquez@westvalley.edu | G7: 2023 | H7: EOPS
A8: Non-Instructional | B8: Student Services | C8: =Administrators!$C$12 -> Victoria Hindes, VP | D8: Financial Aid | E8: Maritza Cantarero | F8: Maritza.Cantarero@westvalley.edu
A9: Non-Instructional | B9: Student Services | C9: =Administrators!$C$16 -> Matais Pouncil, Dean | D9: First Year Experience (FYE) | E9: Gretchen Ehlers | F9: gretchen.ehlers@westvalley.edu | G9: 2054 | H9: SM 4K
A10: Non-Instructional | B10: Student Services | C10: Cynthia Reiss | D10: Global Citizenship Center | E10: Cynthia Reiss | F10: cynthia.reiss@westvalley.edu
A11: Non-Instructional | B11: Student Services | C11: =Administrators!$C$12 -> Victoria Hindes, VP | D11: Health Services | E11: Alfred Forrest | F11: alfred.forrest@westvalley.edu
A12: Non-Instructional | B12: Student Services | C12: =Administrators!$C$12 -> Victoria Hindes, VP | D12: International Students | E12: Sara Patterson | F12: Sara.Patterson@westvalley.edu | G12: 2694 | H12: Couns. Rm 13 | I12: Wendy Wong | K12: 2528 | L12: Couns. Rm 14
A13: Non-Instructional | B13: Office of Instruction | C13: =Administrators!$C$14 -> Stephanie Kashima, Dean | D13: Library Services | E13: Maryanne Mills | F13: Maryanne.Mills@westvalley.edu | G13: 4661 | H13: Library
A14: Non-Instructional | B14: Student Services | C14: =Administrators!$C$12 -> Victoria Hindes, VP | D14: Middle College Program | E14: Joe McDevitt | F14: Joe.McDevitt@westvalley.edu | G14: 4643 | H14: A & R Building | K14: 2529 | L14: Couns. Rm.7
A15: Non-Instructional | B15: Student Services | C15: =Administrators!$C$12 -> Victoria Hindes, VP | D15: Outreach and Student Recruitment | E15: Joe McDevitt | F15: Joe.McDevitt@westvalley.edu | G15: 4643 | H15: A & R Building
A16: Non-Instructional | B16: Student Services | C16: =Administrators!$C$16 -> Matais Pouncil, Dean | D16: PUENTE Program | E16: Joe Bucher | F16: Joe.Bucher@westvalley.edu | G16: 2614 | H16: Couns. | I16: Jeanette Richey | J16: jeanette.richey@westvalley.edu
A17: Non-Instructional | B17: Student Services | C17: =Administrators!$C$12 -> Victoria Hindes, VP | D17: Student Development and Campus Center | E17: Sean Pepin | F17: sean.pepin@westvalley.edu | G17: 2185 | H17: Campus Center | I17: Yalem Lakew | J17: Yalem.Lakew@westvalley.edu and
A18: Non-Instructional | B18: Student Services | C18: =Administrators!$C$12 -> Victoria Hindes, VP | D18: Student Equality, Diversity, and Success | E18: Herlisa Hamp | F18: Herlisa.Hamp@westvalley.edu | G18: 4616 | H18: A & R Building
A19: Non-Instructional | B19: Student Services | C19: =Administrators!$C$16 -> Matais Pouncil, Dean | D19: SUCCESS Program | E19: Philip Severe | F19: Philip.Severe@westvalley.edu | G19: 2493 | H19: Couns. Rm.6
A20: Non-Instructional | B20: Student Services | C20: =Administrators!$C$16 -> Matais Pouncil, Dean | D20: Transfer Center | E20: Melissa Salcido | F20: Melissa.Salcido@westvalley.edu | G20: 2102 | H20: Couns. Rm.27a
A21: Non-Instructional | B21: Student Services | C21: =Administrators!$C$12 -> Victoria Hindes, VP | D21: TRIO | E21: Geneva Leighton | F21: Geneva.Leighton@westvalley.edu | G21: 2604 | H21: Campus Center
A22: Non-Instructional | B22: Office of Instruction | C22: =Administrators!$C$14 -> Stephanie Kashima, Dean | D22: Tutorial Services | E22: Jennifer Wagner | F22: Jennifer.Wagner@westvalley.edu | H22: Tutorial
A23: Non-Instructional | B23: Student Services | C23: =Administrators!$C$12 -> Victoria Hindes, VP | D23: Veteran's Resource Center | E23: Bernadette Walker | F23: Bernadette.Walker@westvalley.edu | G23: 4030 | H23: Campus Center
A24: Non-Instructional | B24: Career Education and Workforce Development | C24: =Administrators!$C$15 -> Brad Weisberg, Dean | D24: Work Experience | E24: Brad Weisberg | F24: Brad.Weisberg@westvalley.edu

Sheet Administration
A1: Category | B1: Division/Area | C1: Administrator/Chair | D1: Program | E1: Primary Contact | F1: Email | G1: Ext | H1: Office | I1: Secondary Contact | J1: Email | K1: Ext | L1: Office
A2: Administrative | B2: Administrative Services | C2: Pat Fenton | D2: Instructional Technology | E2: Pat Fenton | F2: Pat.Fenton@westvalley.edu | H2: Fox
A3: Administrative | B3: Administrative Services | C3: Pat Fenton | D3: College Webmaster | E3: Daniel Niemann | F3: Daniel.Niemann@westvalley.edu | G3: 2578 | H3: ILC/ DAS office
A4: Administrative | B4: Administrative Services | C4: Pat Fenton | D4: Marketing and Communications | E4: Scott Ludwig | F4: Scott.Ludwig@westvalley.edu | G4: 2031 | H4: TV Studio
A5: Administrative | B5: Administrative Services | C5: Pat Fenton | D5: Administrative Services | E5: Pat Fenton | F5: Pat.Fenton@westvalley.edu
A6: Administrative | B6: Career Education and Workforce Development | C6: Brad Weisberg | D6: Career Programs Center | E6: Brad Weisberg | F6: Brad.Weisberg@westvalley.edu
A7: Administrative | B7: Career Education and Workforce Development | C7: Brad Weisberg | D7: Child Development Center | E7: Anne Horgan | F7: Anne.Horgan@westvalley.edu | G7: 2152 | H7: Child Dev. Center
A8: Administrative | B8: Career Education and Workforce Development | C8: Brad Weisberg | D8: Community Education | E8: David Esmaili | F8: David.Esmaili@westvalley.edu | G8: 4693 | H8: Gerlani House
A9: Administrative | B9: Career Education and Workforce Development | C9: Brad Weisberg | D9: Contract Education | E9: Mae Conroy | F9: Mae.Conroy@westvalley.edu
A10: Administrative | B10: Language Arts | C10: Leigh Burrill | D10: Honors | E10: Ann Malmuth-Onn | F10: Ann.Malmuth-Onn@westvalley.edu
A11: Administrative | B11: Office of Instruction | C11: Kuni Hay | D11: Distance Learning | E11: Lisa Kaaz | F11: Lisa.Kaaz@westvalley.edu
A12: Administrative | B12: Office of Instruction | C12: Kuni Hay | D12: Office of Instruction | E12: Kuni Hay | F12: Kuni.Hay@westvalley.edu
A13: Administrative | B13: Office of Instruction | C13: Kuni Hay | D13: Professional Development | E13: Michelle Francis | F13: Michelle.Francis@westvalley.edu | G13: 4082
A14: Administrative | B14: Office of the President | C14: Brad Davis | D14: Office of the President | E14: Gloria Gutierrez | F14: Gloria.Gutierrez@wvm.edu
A15: Administrative | B15: Student Services | C15: Victoria Hindes, VP | D15: Student Services | E15: Victoria Hindes | F15: Victoria.Hindes@westvalley.edu
A16: Administrative | B16: Career Education and Workforce Development | C16: Brad Weisberg | D16: Career Education and Workforce Development | E16: Brad Weisberg | F16: Brad.Weisberg@westvalley.edu | G16: 4084

Sheet Administrators
A1: Category | B1: Division/Area | C1: Administrator/Division Chair | D1: Email | E1: Ext | F1: Office
A2: Instructional | B2: School of Art and Design (Design) | C2: Diane Hurd, Division Chair | D2: Diane.Hurd@westvalley.edu | E2: 2110 | F2: V-4
A3: Instructional | B3: School of Art and Design (Fine Arts) | C3: Robert Cornejo, Division Chair | D3: Robert.Cornejo@westvalley.edu | E3: 2464 | F3: MU 2
A4: Instructional | B4: Professional Studies | C4: Jim Henderson, Division Chair | D4: Jim.Henderson@westvalley.edu | E4: 4609 | F4: BUS J
A5: Instructional | B5: Language Arts | C5: Leigh Burrill, Division Chair | D5: Leigh.Burrill@westvalley.edu | E5: 4054 | F5: LA/SS 4 A
A6: Instructional | B6: Health and Human Development | C6: Diane Rudy, Division Chair | D6: Diane.Rudy@westvalley.edu | E6: 4032 | F6: PE
A7: Instructional | B7: Science/Math | C7: Roberta Berlani, Division Chair | D7: Roberta.Berlani@westvalley.edu | E7: 2115 | F7: SM 1A
A8: Instructional | B8: Social Science | C8: Nichola Gutierrez, Division Co-Chair | D8: Nichola.Gutierrez@westvalley.edu | E8: 2557 | F8: LA
A9: Instructional | B9: Social Science | C9: Janis Kea, Division Co-Chair | D9: Janis.Kea@westvalley.edu | E9: 2538 | F9: SS 2A
A10: Instructional | B10: Student Services | C10: Tom Golbetz, Division Chair | D10: Tom.Golbetz@westvalley.edu | E10: 4022 | F10: Couns. Rm 18
A11: Administration | B11: Office of Instruction | C11: Kuni Hay, VP | D11: Kuni.Hay@westvalley.edu | E11: 2052 | F11: Office of Inst. A&R Bldg.
A12: Administration | B12: Student Services | C12: Victoria Hindes, VP | D12: Victoria.Hindes@westvalley.edu | E12: 2020 | F12: Counseling Building
A13: Administration | B13: Administrative Services | C13: Pat Fenton, VP | D13: Pat.Fenton@westvalley.edu | E13: 2056 | F13: Fox Building
... A16: Administration | B16: Dean, Student Services | C16: Matais Pouncil, Dean | D16: Matais.Pouncil@westvalley.edu | E16: 2136 | F16: Counseling Building
