Workbook

Sheet Submissions
A1: Program | B1: Primary Contact Person | C1: Primary Contact E-mail Address | D1: Full (F) or Update (U)? | E1: 1st Assigned Reader | F1: Submission Date (due 4/15) | G1: Date sent to Reader | H1: 1st Rubric Completion Date | I1: 1st Submission Met Expectations? | J1: 2nd Assigned Reader | K1: Date sent to 2nd Reader | L1: 2nd Reader Completion Date | M1: Met Expectations after Consult? | N1: Date Unsatisfactory Letter Sent | O1: Resubmission Date | P1: Assigned Reader | Q1: Date sent to Reader | R1: 2nd Rubric Completion Date | S1: Resubmission Met Expectations? | T1: Third Submission Date | U1: Assigned Reader | V1: Date Sent to Reader | W1: 3rd Rubric Completion Date | X1: Met Expectations after Consult? | Y1: 2nd Unsatisfactory Notice Sent to Program Leader | Z1: Resubmission Reminder Sent | AA1: Date Satisfactory Letter Sent | AB1: Date Final Notice Sent | AC1: Dialog Offer? | AD1: Dialog Deadline Date | AE1: Date Sent to Academic Senate | AF1: Comments
A2: Administrative
A3: ='Admin Checklist'!C2 -> Administrative Services | B3: ='Admin Checklist'!D2 -> Pat Fenton | C3: ='Admin Checklist'!E2 -> Pat.Fenton@westvalley.edu | D3: U | E3: ='Admin Checklist'!F2 -> M. Vaughn
A4: ='Admin Checklist'!C3 -> Instructional Technology Support, TV/AV/Multimedia | B4: ='Admin Checklist'!D3 -> Scott Ludwig | C4: ='Admin Checklist'!E3 -> Scott.Ludwig@westvalley.edu | D4: U | E4: ='Admin Checklist'!F3 -> H. Breuckner
A5: ='Admin Checklist'!C4 -> Marketing/Advertising | B5: ='Admin Checklist'!D4 -> Scott Ludwig | C5: ='Admin Checklist'!E4 -> Scott.Ludwig@westvalley.edu | D5: U | E5: ='Admin Checklist'!F4 -> J. Ho
A6: ='Admin Checklist'!C5 -> Webmaster | B6: ='Admin Checklist'!D5 -> Daniel Niemann | C6: ='Admin Checklist'!E5 -> Daniel.Niemann@westvalley.edu | D6: U | E6: ='Admin Checklist'!F5 -> P. Mathieson
A7: ='Admin Checklist'!C6 -> Webmaster (Instructional Technology) | B7: ='Admin Checklist'!D6 -> Scott Ludwig | C7: ='Admin Checklist'!E6 -> Scott.Ludwig@westvalley.edu | D7: U | E7: ='Admin Checklist'!F6 -> S. Kashima
A8: ='Admin Checklist'!C7 -> Career Programs Center | B8: ='Admin Checklist'!D7 -> Brad Weisberg | C8: ='Admin Checklist'!E7 -> Brad.Weisberg@westvalley.edu | D8: U | E8: ='Admin Checklist'!F7 -> E. Johnson
A9: ='Admin Checklist'!C8 -> Child Development Center | B9: ='Admin Checklist'!D8 -> Shelley Gonzales | C9: ='Admin Checklist'!E8 -> Shelley.Gonzales@westvalley.edu | D9: U | E9: ='Admin Checklist'!F8 -> L. McGinley
A10: ='Admin Checklist'!C9 -> Community Education | B10: ='Admin Checklist'!D9 -> David Esmaili | C10: ='Admin Checklist'!E9 -> David.Esmaili@westvalley.edu | D10: U | E10: ='Admin Checklist'!F9 -> J. Richey
A11: ='Admin Checklist'!C10 -> Contract Education | B11: ='Admin Checklist'!D10 -> Mae Conroy | C11: ='Admin Checklist'!E10 -> Mae.Conroy@westvalley.edu | D11: U | E11: ='Admin Checklist'!F10 -> K. Cooper
A12: ='Admin Checklist'!C11 -> Honors | B12: ='Admin Checklist'!D11 -> Ann Malmuth-Onn | C12: ='Admin Checklist'!E11 -> Ann.Malmuth-Onn@westvalley.edu | D12: U | E12: ='Admin Checklist'!F11 -> B. Sandford
A13: ='Admin Checklist'!C12 -> Distance Learning | B13: ='Admin Checklist'!D12 -> Lisa Kaaz | C13: ='Admin Checklist'!E12 -> Lisa.Kaaz@westvalley.edu | D13: U | E13: ='Admin Checklist'!F12 -> J. Maia
A14: ='Admin Checklist'!C13 -> Office of Instruction | B14: ='Admin Checklist'!D13 -> Kuni Hay | C14: ='Admin Checklist'!E13 -> Kuni.Hay@westvalley.edu | D14: U | E14: ='Admin Checklist'!F13 -> P. Louderback
... A17: ='Admin Checklist'!C16 -> Student Services | B17: ='Admin Checklist'!D16 -> Victoria Hindes | C17: ='Admin Checklist'!E16 -> Victoria.Hindes@westvalley.edu | D17: U | E17: ='Admin Checklist'!F16 -> J. Richey
A18: Instruction
A19: ='Instructional Checklist'!C2 -> Administration of Justice | B19: ='Instructional Checklist'!D2 -> Renee Paquier | C19: ='Instructional Checklist'!E2 -> Renee.Paquier@westvalley.edu | D19: U | E19: ='Instructional Checklist'!F2 -> L. McGinley
A20: ='Instructional Checklist'!C3 -> Architecture | B20: ='Instructional Checklist'!D3 -> Soroush Ghahramani | C20: ='Instructional Checklist'!E3 -> Soroush.Ghahramani@westvalley.edu | D20: U | E20: ='Instructional Checklist'!F3 -> K. Cooper
A21: ='Instructional Checklist'!C4 -> Child Studies | B21: ='Instructional Checklist'!D4 -> Katherine Moore-Wines | C21: ='Instructional Checklist'!E4 -> Katherine.Moore-Wines@westvalley.edu | D21: U | E21: ='Instructional Checklist'!F4 -> J. Ho
A22: ='Instructional Checklist'!C5 -> Engineering | B22: ='Instructional Checklist'!D5 -> Soroush Ghahramani | C22: ='Instructional Checklist'!E5 -> Soroush.Ghahramani@wvm.edu | D22: U | E22: ='Instructional Checklist'!F5 -> J. Maia
A23: ='Instructional Checklist'!C6 -> Fashion Design | B23: ='Instructional Checklist'!D6 -> Sally Aitken | C23: ='Instructional Checklist'!E6 -> Sally.Aitken@westvalley.edu | D23: U | E23: ='Instructional Checklist'!F6 -> P. Louderback
A24: ='Instructional Checklist'!C7 -> Health Care Technology | B24: ='Instructional Checklist'!D7 -> Kris Gaiero | C24: ='Instructional Checklist'!E7 -> Kris.Gaiero@westvalley.edu | D24: U | E24: ='Instructional Checklist'!F7 -> H. Breuckner
A25: ='Instructional Checklist'!C8 -> Interior Design | B25: ='Instructional Checklist'!D8 -> Christopher Wright | C25: ='Instructional Checklist'!E8 -> Christopher.Wright@westvalley.edu | D25: U | E25: ='Instructional Checklist'!F8 -> B. Sandford
A26: ='Instructional Checklist'!C9 -> Paralegal | B26: ='Instructional Checklist'!D9 -> Stacy Hopkins | C26: ='Instructional Checklist'!E9 -> stacy.hopkins@westvalley.edu | D26: U | E26: ='Instructional Checklist'!F9 -> L. McGinley
A27: ='Instructional Checklist'!C10 -> Park Management | B27: ='Instructional Checklist'!D10 -> Chris Cruz | C27: ='Instructional Checklist'!E10 -> Chris.Cruz@westvalley.edu | D27: U | E27: ='Instructional Checklist'!F10 -> E. Johnson
A28: ='Instructional Checklist'!C11 -> Accounting | B28: ='Instructional Checklist'!D11 -> Jim Henderson | C28: ='Instructional Checklist'!E11 -> Jim.Henderson@westvalley.edu | D28: U | E28: ='Instructional Checklist'!F11 -> J. Richey
A29: ='Instructional Checklist'!C12 -> Business/Real Estate | B29: ='Instructional Checklist'!D12 -> Lance Shoemaker | C29: ='Instructional Checklist'!E12 -> Lance.Schoemaker@westvalley.edu | D29: U | E29: ='Instructional Checklist'!F12 -> E. Johnson
A30: ='Instructional Checklist'!C13 -> Computer Applications | B30: ='Instructional Checklist'!D13 -> Karina Dundurs | C30: ='Instructional Checklist'!E13 -> Karina.Dundurs@westvalley.edu | D30: U | E30: ='Instructional Checklist'!F13 -> J. Maia
... A60: ='Instructional Checklist'!C43 -> DESP Curriculum | B60: ='Instructional Checklist'!D43 -> Cheryl Miller | C60: ='Instructional Checklist'!E43 -> Cheryl.Miller@westvalley.edu | D60: U | E60: ='Instructional Checklist'!F43 -> J. Richey
A61: Non-Instruction
A62: ='Non-Inst Checklist'!C2 -> CalWORKs | B62: ='Non-Inst Checklist'!D2 -> Mae Conroy | C62: ='Non-Inst Checklist'!E2 -> Mae_Conroy@westvalley.edu | D62: U | E62: ='Non-Inst Checklist'!F2 -> K. Cooper
A63: ='Non-Inst Checklist'!C3 -> Work Experience | B63: ='Non-Inst Checklist'!D3 -> Brad Weisberg | C63: ='Non-Inst Checklist'!E3 -> Brad.Weisberg@westvalley.edu | D63: U | E63: ='Non-Inst Checklist'!F3 -> P. Mathieson
A64: ='Non-Inst Checklist'!C4 -> Library Services | B64: ='Non-Inst Checklist'!D4 -> Betsy Sandford | C64: ='Non-Inst Checklist'!E4 -> Betsy.Sandford@westvalley.edu | D64: U | E64: ='Non-Inst Checklist'!F4 -> J. Maia
A65: ='Non-Inst Checklist'!C5 -> Tutorial Services | B65: ='Non-Inst Checklist'!D5 -> Jeff Griffin | C65: ='Non-Inst Checklist'!E5 -> Jeff.Griffin@westvalley.edu | D65: U | E65: ='Non-Inst Checklist'!F5 -> P. Louderback
A66: ='Non-Inst Checklist'!C6 -> Admissions/Records | B66: ='Non-Inst Checklist'!D6 -> Maritza Cantarero | C66: ='Non-Inst Checklist'!E6 -> maritza.cantarero@westvalley.edu | D66: U | E66: ='Non-Inst Checklist'!F6 -> H. Breuckner
A67: ='Non-Inst Checklist'!C7 -> Assessment | B67: ='Non-Inst Checklist'!D7 -> LeAnn McGinley | C67: ='Non-Inst Checklist'!E7 -> LeAnn.McGinley@westvalley.edu | D67: U | E67: ='Non-Inst Checklist'!F7 -> J. Richey
A68: ='Non-Inst Checklist'!C8 -> Counseling Services | B68: ='Non-Inst Checklist'!D8 -> Angelica Bangle | C68: ='Non-Inst Checklist'!E8 -> Angelica.Bangle@westvalley.edu | D68: U | E68: ='Non-Inst Checklist'!F8 -> J. Maia
A69: ='Non-Inst Checklist'!C9 -> Disability & Educational Support Program (DESP) | B69: ='Non-Inst Checklist'!D9 -> Cheryl Miller | C69: ='Non-Inst Checklist'!E9 -> Cheryl_Miller@westvalley.edu | D69: U | E69: ='Non-Inst Checklist'!F9 -> L. McGinley
A70: ='Non-Inst Checklist'!C10 -> Extended Opportunity Programs and Services (EOPS) | B70: ='Non-Inst Checklist'!D10 -> Irene Serna | C70: ='Non-Inst Checklist'!E10 -> Irene.Serna@westvalley.edu | D70: U | E70: ='Non-Inst Checklist'!F10 -> B. Sandford
A71: ='Non-Inst Checklist'!C11 -> Financial Aid | B71: ='Non-Inst Checklist'!D11 -> Maritza Cantarero | C71: ='Non-Inst Checklist'!E11 -> Maritza.Cantarero@westvalley.edu | D71: U | E71: ='Non-Inst Checklist'!F11 -> P. Mathieson
A72: ='Non-Inst Checklist'!C12 -> First Year Experience (FYE) | B72: ='Non-Inst Checklist'!D12 -> Gretchen Ehlers | C72: ='Non-Inst Checklist'!E12 -> gretchen.ehlers@westvalley.edu | D72: U | E72: ='Non-Inst Checklist'!F12 -> E. Johnson
A73: ='Non-Inst Checklist'!C13 -> Global Citizenship Center | B73: ='Non-Inst Checklist'!D13 -> Cynthia Reiss | C73: ='Non-Inst Checklist'!E13 -> cynthia.reiss@westvalley.edu | D73: U | E73: ='Non-Inst Checklist'!F13 -> J. Ho
... A82: ='Non-Inst Checklist'!C22 -> Veteran's Resource Center | B82: ='Non-Inst Checklist'!D22 -> Bernie Walker | C82: ='Non-Inst Checklist'!E22 -> Bernadette.Walker@westvalley.edu | D82: U | E82: ='Non-Inst Checklist'!F22 -> E. Johnson
A85: Number of Programs | B85: Completed on Time | C85: Satisfactory | D85: Unsatisfactory
A86: =COUNTA(A3:A17) -> 15
A87: =COUNTA(A20:A60) -> 41
A88: =COUNTA(A62:A82) -> 21
A89: =SUM(A86:A88) -> 77

Sheet Admin Checklist
A1: Area | B1: Administrator | C1: Program | D1: Contact Person | E1: Contact E-mail Address | F1: Reader
A2: Administrative Services | B2: Pat Fenton | C2: Administrative Services | D2: Pat Fenton | E2: Pat.Fenton@westvalley.edu | F2: M. Vaughn
A3: Administrative Services | B3: Pat Fenton | C3: Instructional Technology Support, TV/AV/Multimedia | D3: Scott Ludwig | E3: Scott.Ludwig@westvalley.edu | F3: H. Breuckner
A4: Administrative Services | B4: Pat Fenton | C4: Marketing/Advertising | D4: Scott Ludwig | E4: Scott.Ludwig@westvalley.edu | F4: J. Ho
A5: Administrative Services | B5: Pat Fenton | C5: Webmaster | D5: Daniel Niemann | E5: Daniel.Niemann@westvalley.edu | F5: P. Mathieson
A6: Administrative Services | B6: Pat Fenton | C6: Webmaster (Instructional Technology) | D6: Scott Ludwig | E6: Scott.Ludwig@westvalley.edu | F6: S. Kashima
A7: Career Education and Workforce Development | B7: Brad Weisberg | C7: Career Programs Center | D7: Brad Weisberg | E7: Brad.Weisberg@westvalley.edu | F7: E. Johnson
A8: Career Education and Workforce Development | B8: Brad Weisberg | C8: Child Development Center | D8: Shelley Gonzales | E8: Shelley.Gonzales@westvalley.edu | F8: L. McGinley
A9: Career Education and Workforce Development | B9: Brad Weisberg | C9: Community Education | D9: David Esmaili | E9: David.Esmaili@westvalley.edu | F9: J. Richey
A10: Career Education and Workforce Development | B10: Brad Weisberg | C10: Contract Education | D10: Mae Conroy | E10: Mae.Conroy@westvalley.edu | F10: K. Cooper
A11: Language Arts | B11: Leigh Burrill | C11: Honors | D11: Ann Malmuth-Onn | E11: Ann.Malmuth-Onn@westvalley.edu | F11: B. Sandford
A12: Office of Instruction | B12: Kuni Hay | C12: Distance Learning | D12: Lisa Kaaz | E12: Lisa.Kaaz@westvalley.edu | F12: J. Maia
... A16: Student Services | B16: Victoria Hindes | C16: Student Services | D16: Victoria Hindes | E16: Victoria.Hindes@westvalley.edu | F16: J. Richey

Sheet Instructional Checklist
A1: Division | B1: Division Chair | C1: Department | D1: Contact Person | E1: Contact E-mail Address | F1: Reader
A2: AAS | B2: Diane Hurd | C2: Administration of Justice | D2: Renee Paquier | E2: Renee.Paquier@westvalley.edu | F2: L. McGinley
A3: AAS | B3: Diane Hurd | C3: Architecture | D3: Soroush Ghahramani | E3: Soroush.Ghahramani@westvalley.edu | F3: K. Cooper
A4: AAS | B4: Diane Hurd | C4: Child Studies | D4: Katherine Moore-Wines | E4: Katherine.Moore-Wines@westvalley.edu | F4: J. Ho
A5: AAS | B5: Diane Hurd | C5: Engineering | D5: Soroush Ghahramani | E5: Soroush.Ghahramani@wvm.edu | F5: J. Maia
A6: AAS | B6: Diane Hurd | C6: Fashion Design | D6: Sally Aitken | E6: Sally.Aitken@westvalley.edu | F6: P. Louderback
A7: AAS | B7: Diane Hurd | C7: Health Care Technology | D7: Kris Gaiero | E7: Kris.Gaiero@westvalley.edu | F7: H. Breuckner
A8: AAS | B8: Diane Hurd | C8: Interior Design | D8: Christopher Wright | E8: Christopher.Wright@westvalley.edu | F8: B. Sandford
A9: AAS | B9: Diane Hurd | C9: Paralegal | D9: Stacy Hopkins | E9: stacy.hopkins@westvalley.edu | F9: L. McGinley
A10: AAS | B10: Diane Hurd | C10: Park Management | D10: Chris Cruz | E10: Chris.Cruz@westvalley.edu | F10: E. Johnson
A11: Business | B11: Jim Henderson | C11: Accounting | D11: Jim Henderson | E11: Jim.Henderson@westvalley.edu | F11: J. Richey
A12: Business | B12: Jim Henderson | C12: Business/Real Estate | D12: Lance Shoemaker | E12: Lance.Schoemaker@westvalley.edu | F12: E. Johnson
... A43: Student Services | B43: Carol Pavan | C43: DESP Curriculum | D43: Cheryl Miller | E43: Cheryl.Miller@westvalley.edu | F43: J. Richey

Sheet Non-Inst Checklist
A1: Area | B1: Administrator or Chair | C1: Program | D1: Contact Person | E1: Contact E-mail Address | F1: Reader
A2: Career Education and Workforce Development | B2: Brad Weisberg | C2: CalWORKs | D2: Mae Conroy | E2: Mae_Conroy@westvalley.edu | F2: K. Cooper
A3: Career Education and Workforce Development | B3: Brad Weisberg | C3: Work Experience | D3: Brad Weisberg | E3: Brad.Weisberg@westvalley.edu | F3: P. Mathieson
A4: Office of Instruction | B4: Stephanie Kashima | C4: Library Services | D4: Betsy Sandford | E4: Betsy.Sandford@westvalley.edu | F4: J. Maia
A5: Office of Instruction | B5: Stephanie Kashima | C5: Tutorial Services | D5: Jeff Griffin | E5: Jeff.Griffin@westvalley.edu | F5: P. Louderback
A6: Student Services | B6: Victoria Hindes | C6: Admissions/Records | D6: Maritza Cantarero | E6: maritza.cantarero@westvalley.edu | F6: H. Breuckner
A7: Student Services | B7: Victoria Hindes | C7: Assessment | D7: LeAnn McGinley | E7: LeAnn.McGinley@westvalley.edu | F7: J. Richey
A8: Student Services | B8: Carol Pavan | C8: Counseling Services | D8: Angelica Bangle | E8: Angelica.Bangle@westvalley.edu | F8: J. Maia
A9: Student Services | B9: Carol Pavan | C9: Disability & Educational Support Program (DESP) | D9: Cheryl Miller | E9: Cheryl_Miller@westvalley.edu | F9: L. McGinley
A10: Student Services | B10: Carol Pavan | C10: Extended Opportunity Programs and Services (EOPS) | D10: Irene Serna | E10: Irene.Serna@westvalley.edu | F10: B. Sandford
A11: Student Services | B11: Victoria Hindes | C11: Financial Aid | D11: Maritza Cantarero | E11: Maritza.Cantarero@westvalley.edu | F11: P. Mathieson
A12: Student Services | B12: Michelle Donohue | C12: First Year Experience (FYE) | D12: Gretchen Ehlers | E12: gretchen.ehlers@westvalley.edu | F12: E. Johnson
... A22: Student Services | B22: Michelle Donohue | C22: Veteran's Resource Center | D22: Bernie Walker | E22: Bernadette.Walker@westvalley.edu | F22: E. Johnson

Sheet Readers
A1: Reader
A2: Heidi Brueckner
A3: Kelly Cooper
A4: Jennifer Ho
A5: Elise Johnson
A6: Patricia Louderback
A7: Julie Maia
A8: Peggy Mathieson
A9: LeAnn K. McGinley
A10: Jeanette Richey
A11: Betsy Sandford
A12: Melvin J. Vaughn, Chair
A13: Stephanie Kashima

Sheet Report
A1: Admin
B2: Total programs
B3: Submitted to date
B4: On time
A6: Of those program reviews receieved:
B7: Satisfactory letter sent
B8: Rubrics complete, pending resubmission
B9: Pending first rubric
B10: Pending second reader - first rubric
B11: Pending second rubric for resubmission
A14: Instruction
B15: Total programs
B16: Submitted to date
B17: On time
A19: Of those program reviews receieved:
B20: Satisfactory letter sent
B21: Rubrics complete, pending resubmission
B22: Pending first rubric
B23: Pending second reader - first rubric
B24: Pending second rubric for resubmission
A27: Non-Instruction
B28: Total programs
B29: Submitted to date
B30: On time
A32: Of those program reviews receieved:
B33: Satisfactory letter sent
B34: Rubrics complete, pending resubmission
B35: Pending first rubric
B36: Pending second reader - first rubric
B37: Pending second rubric for resubmission
